BEGIN:VCALENDAR
VERSION:2.0
PRODID:-//ADEFO - ECPv6.7.0//NONSGML v1.0//EN
CALSCALE:GREGORIAN
METHOD:PUBLISH
X-WR-CALNAME:ADEFO
X-ORIGINAL-URL:https://adefo.com
X-WR-CALDESC:Eventos para ADEFO
REFRESH-INTERVAL;VALUE=DURATION:PT1H
X-Robots-Tag:noindex
X-PUBLISHED-TTL:PT1H
BEGIN:VTIMEZONE
TZID:UTC
BEGIN:STANDARD
TZOFFSETFROM:+0000
TZOFFSETTO:+0000
TZNAME:UTC
DTSTART:20200101T000000
END:STANDARD
END:VTIMEZONE
BEGIN:VEVENT
DTSTART;TZID=UTC:20200505T100000
DTEND;TZID=UTC:20200505T120000
DTSTAMP:20260421T040909
CREATED:20200422T102807Z
LAST-MODIFIED:20200422T102807Z
UID:27008-1588672800-1588680000@adefo.com
SUMMARY:PROGRAMA CONTIGO - WEBINAR - Marcas y marketing para la nueva normalidad. Carlos Amselem
DESCRIPTION:Adefo Cinco Villas quiere ayudar a las empresas de la comarca a adoptar medidas y tomar decisiones adecuadas para mantener su actividad y minimizar los daños que les está provocando el Covid-19\, anticipando los posibles escenarios futuros. \nCon estos objetivos\, Adefo ha creado el programa CONTIGO\, una iniciativa gratuita que ofrece webinars para emprendedores\, autónomos y empresas de las Cinco Villas\, guiados por los mejores consultores en estrategia e innovación\, finanzas\, marca\, marketing y coaching. \nEl programa de webinars se articulará en las siguientes citas: \n28 de abril – 10:00h – Estrategia e innovación en tiempos Covid. Ana Hernández \n30 de abril – 10:00h – Decisiones financieras para superar el Covid-19. David Moreno \n05 de mayo – 10:00h – Marcas y marketing para la nueva normalidad. Carlos Amselem \n07 de mayo – 10:00h – Puesta a punto emocional para afrontar nuevos retos. Nieves Asensio \nPor otra parte\, el programa ofrece\, de forma opcional\, un servicio de consultoría formativa online individualizado para el sector primario\, industria\, comercio y servicios. Hasta 20 empresas de la comarca de las Cinco Villas (4 del sector primario\, 8 del sector industria\, 8 del sector comercio y servicios)\, podrán optar a 4 horas de consultoría personalizada telefónica o por videoconferencia de los especialistas que forman parte del programa Contigo\, siempre y cuando dichas empresas\, hayan asistido a todos los webinars. \nAdemás de las sesiones individualizadas\, se trabajará de forma colaborativa entre las empresas participantes en el desarrollo de nuevos productos o servicios\, en función de sus necesidades y los recursos disponibles e infrautilizados para aumentar la viabilidad de sus negocios y el refuerzo del ecosistema. \nPorque si algo nos enseña la situación actual es que juntos somos más fuertes. \nInformación e inscripciones: \nAdefo Cinco Villas 976 67 72 72 adefo@adefo.com – www.adefo.com/programa-contigo
URL:https://adefo.com/agenda/programa-contigo-2-2/
ATTACH;FMTTYPE=image/jpeg:https://adefo.com/wp-content/uploads/2020/04/programa-CONTIGO-2.jpg
END:VEVENT
BEGIN:VEVENT
DTSTART;TZID=UTC:20200507T100000
DTEND;TZID=UTC:20200507T120000
DTSTAMP:20260421T040909
CREATED:20200422T102845Z
LAST-MODIFIED:20200422T102857Z
UID:27010-1588845600-1588852800@adefo.com
SUMMARY:PROGRAMA CONTIGO - WEBINAR - Puesta a punto emocional para afrontar nuevos retos. Nieves Asensio
DESCRIPTION:Adefo Cinco Villas quiere ayudar a las empresas de la comarca a adoptar medidas y tomar decisiones adecuadas para mantener su actividad y minimizar los daños que les está provocando el Covid-19\, anticipando los posibles escenarios futuros. \nCon estos objetivos\, Adefo ha creado el programa CONTIGO\, una iniciativa gratuita que ofrece webinars para emprendedores\, autónomos y empresas de las Cinco Villas\, guiados por los mejores consultores en estrategia e innovación\, finanzas\, marca\, marketing y coaching. \nEl programa de webinars se articulará en las siguientes citas: \n28 de abril – 10:00h – Estrategia e innovación en tiempos Covid. Ana Hernández \n30 de abril – 10:00h – Decisiones financieras para superar el Covid-19. David Moreno \n05 de mayo – 10:00h – Marcas y marketing para la nueva normalidad. Carlos Amselem \n07 de mayo – 10:00h – Puesta a punto emocional para afrontar nuevos retos. Nieves Asensio \nPor otra parte\, el programa ofrece\, de forma opcional\, un servicio de consultoría formativa online individualizado para el sector primario\, industria\, comercio y servicios. Hasta 20 empresas de la comarca de las Cinco Villas (4 del sector primario\, 8 del sector industria\, 8 del sector comercio y servicios)\, podrán optar a 4 horas de consultoría personalizada telefónica o por videoconferencia de los especialistas que forman parte del programa Contigo\, siempre y cuando dichas empresas\, hayan asistido a todos los webinars. \nAdemás de las sesiones individualizadas\, se trabajará de forma colaborativa entre las empresas participantes en el desarrollo de nuevos productos o servicios\, en función de sus necesidades y los recursos disponibles e infrautilizados para aumentar la viabilidad de sus negocios y el refuerzo del ecosistema. \nPorque si algo nos enseña la situación actual es que juntos somos más fuertes. \nInformación e inscripciones: \nAdefo Cinco Villas 976 67 72 72 adefo@adefo.com – www.adefo.com/programa-contigo
URL:https://adefo.com/agenda/programa-contigo-2-2-2/
ATTACH;FMTTYPE=image/jpeg:https://adefo.com/wp-content/uploads/2020/04/programa-CONTIGO-2.jpg
END:VEVENT
END:VCALENDAR