BEGIN:VCALENDAR
VERSION:2.0
PRODID:-//ADEFO - ECPv6.7.0//NONSGML v1.0//EN
CALSCALE:GREGORIAN
METHOD:PUBLISH
X-WR-CALNAME:ADEFO
X-ORIGINAL-URL:https://adefo.com
X-WR-CALDESC:Eventos para ADEFO
REFRESH-INTERVAL;VALUE=DURATION:PT1H
X-Robots-Tag:noindex
X-PUBLISHED-TTL:PT1H
BEGIN:VTIMEZONE
TZID:UTC
BEGIN:STANDARD
TZOFFSETFROM:+0000
TZOFFSETTO:+0000
TZNAME:UTC
DTSTART:20200101T000000
END:STANDARD
END:VTIMEZONE
BEGIN:VEVENT
DTSTART;TZID=UTC:20200401T080000
DTEND;TZID=UTC:20200401T170000
DTSTAMP:20260421T054819
CREATED:20200422T104116Z
LAST-MODIFIED:20200422T104116Z
UID:27015-1585728000-1585760400@adefo.com
SUMMARY:CAFÉ CON IDEA. INSTAGRAM\, TU ESCAPARATE VIRTUAL
DESCRIPTION:Nuestro Café con Idea de hoy\, 1 de abril va a tener como protagonista de nuevo a INSTAGRAM. \nYa que no podemos organizar en nuestra sede esta cita con el Café con Idea de Adefo\, hemos pensado en llevároslo directamente hasta casa. \nEstamos seguros de que os apetecerá saber más sobre un tema que os puede ser útil para vuestro trabajo y no solo.  Nos referimos a INSTAGRAM\, una de las redes sociales que más se utilizan en el mundo de las empresas para la promoción de marcas y productos. \nPor eso\, hemos pedido a Isaac Bolea de Sephor Consulting que presente este Café con Idea virtual\, retomando la presentación que hizo el año pasado en la que encontraréis algunos trucos para mejorar la visibilidad de vuestra empresa y sacar el máximo provecho de esta red social. \nSi tienes alguna duda puedes ponerte en contacto con Isaac Bolea a través de su cuenta de correo.
URL:https://adefo.com/agenda/cafe-con-idea-instagram-tu-escaparate-virtual/
ATTACH;FMTTYPE=image/jpeg:https://adefo.com/wp-content/uploads/2020/04/café-con-idea-4.jpg
END:VEVENT
BEGIN:VEVENT
DTSTART;TZID=UTC:20200428T100000
DTEND;TZID=UTC:20200428T120000
DTSTAMP:20260421T054819
CREATED:20200422T102420Z
LAST-MODIFIED:20200422T102515Z
UID:27003-1588068000-1588075200@adefo.com
SUMMARY:PROGRAMA CONTIGO - WEBINAR - Estrategia e innovación en tiempos Covid. Ana Hernández
DESCRIPTION:Adefo Cinco Villas quiere ayudar a las empresas de la comarca a adoptar medidas y tomar decisiones adecuadas para mantener su actividad y minimizar los daños que les está provocando el Covid-19\, anticipando los posibles escenarios futuros. \nCon estos objetivos\, Adefo ha creado el programa CONTIGO\, una iniciativa gratuita que ofrece webinars para emprendedores\, autónomos y empresas de las Cinco Villas\, guiados por los mejores consultores en estrategia e innovación\, finanzas\, marca\, marketing y coaching. \nEl programa de webinars se articulará en las siguientes citas: \n28 de abril – 10:00h – Estrategia e innovación en tiempos Covid. Ana Hernández \n30 de abril – 10:00h – Decisiones financieras para superar el Covid-19. David Moreno \n05 de mayo – 10:00h – Marcas y marketing para la nueva normalidad. Carlos Amselem \n07 de mayo – 10:00h – Puesta a punto emocional para afrontar nuevos retos. Nieves Asensio \nPor otra parte\, el programa ofrece\, de forma opcional\, un servicio de consultoría formativa online individualizado para el sector primario\, industria\, comercio y servicios. Hasta 20 empresas de la comarca de las Cinco Villas (4 del sector primario\, 8 del sector industria\, 8 del sector comercio y servicios)\, podrán optar a 4 horas de consultoría personalizada telefónica o por videoconferencia de los especialistas que forman parte del programa Contigo\, siempre y cuando dichas empresas\, hayan asistido a todos los webinars. \nAdemás de las sesiones individualizadas\, se trabajará de forma colaborativa entre las empresas participantes en el desarrollo de nuevos productos o servicios\, en función de sus necesidades y los recursos disponibles e infrautilizados para aumentar la viabilidad de sus negocios y el refuerzo del ecosistema. \nPorque si algo nos enseña la situación actual es que juntos somos más fuertes. \nInformación e inscripciones: \nAdefo Cinco Villas 976 67 72 72 adefo@adefo.com – www.adefo.com/programa-contigo
URL:https://adefo.com/agenda/programa-contigo/
ATTACH;FMTTYPE=image/jpeg:https://adefo.com/wp-content/uploads/2020/04/programa-CONTIGO-2.jpg
END:VEVENT
BEGIN:VEVENT
DTSTART;TZID=UTC:20200430T100000
DTEND;TZID=UTC:20200430T120000
DTSTAMP:20260421T054819
CREATED:20200422T102713Z
LAST-MODIFIED:20200422T102713Z
UID:27006-1588240800-1588248000@adefo.com
SUMMARY:PROGRAMA CONTIGO - WEBINAR - Decisiones financieras para superar el Covid-19. David Moreno
DESCRIPTION:Adefo Cinco Villas quiere ayudar a las empresas de la comarca a adoptar medidas y tomar decisiones adecuadas para mantener su actividad y minimizar los daños que les está provocando el Covid-19\, anticipando los posibles escenarios futuros. \nCon estos objetivos\, Adefo ha creado el programa CONTIGO\, una iniciativa gratuita que ofrece webinars para emprendedores\, autónomos y empresas de las Cinco Villas\, guiados por los mejores consultores en estrategia e innovación\, finanzas\, marca\, marketing y coaching. \nEl programa de webinars se articulará en las siguientes citas: \n28 de abril – 10:00h – Estrategia e innovación en tiempos Covid. Ana Hernández \n30 de abril – 10:00h – Decisiones financieras para superar el Covid-19. David Moreno \n05 de mayo – 10:00h – Marcas y marketing para la nueva normalidad. Carlos Amselem \n07 de mayo – 10:00h – Puesta a punto emocional para afrontar nuevos retos. Nieves Asensio \nPor otra parte\, el programa ofrece\, de forma opcional\, un servicio de consultoría formativa online individualizado para el sector primario\, industria\, comercio y servicios. Hasta 20 empresas de la comarca de las Cinco Villas (4 del sector primario\, 8 del sector industria\, 8 del sector comercio y servicios)\, podrán optar a 4 horas de consultoría personalizada telefónica o por videoconferencia de los especialistas que forman parte del programa Contigo\, siempre y cuando dichas empresas\, hayan asistido a todos los webinars. \nAdemás de las sesiones individualizadas\, se trabajará de forma colaborativa entre las empresas participantes en el desarrollo de nuevos productos o servicios\, en función de sus necesidades y los recursos disponibles e infrautilizados para aumentar la viabilidad de sus negocios y el refuerzo del ecosistema. \nPorque si algo nos enseña la situación actual es que juntos somos más fuertes. \nInformación e inscripciones: \nAdefo Cinco Villas 976 67 72 72 adefo@adefo.com – www.adefo.com/programa-contigo
URL:https://adefo.com/agenda/programa-contigo-2/
ATTACH;FMTTYPE=image/jpeg:https://adefo.com/wp-content/uploads/2020/04/programa-CONTIGO-2.jpg
END:VEVENT
END:VCALENDAR