BEGIN:VCALENDAR
VERSION:2.0
PRODID:-//ADEFO - ECPv6.7.0//NONSGML v1.0//EN
CALSCALE:GREGORIAN
METHOD:PUBLISH
X-ORIGINAL-URL:https://adefo.com
X-WR-CALDESC:Eventos para ADEFO
REFRESH-INTERVAL;VALUE=DURATION:PT1H
X-Robots-Tag:noindex
X-PUBLISHED-TTL:PT1H
BEGIN:VTIMEZONE
TZID:UTC
BEGIN:STANDARD
TZOFFSETFROM:+0000
TZOFFSETTO:+0000
TZNAME:UTC
DTSTART:20200101T000000
END:STANDARD
END:VTIMEZONE
BEGIN:VEVENT
DTSTART;VALUE=DATE:20200203
DTEND;VALUE=DATE:20200205
DTSTAMP:20260421T085418
CREATED:20200128T080559Z
LAST-MODIFIED:20200128T151521Z
UID:26388-1580688000-1580860799@adefo.com
SUMMARY:4ª EDICIÓN DEL TALLER GIRA MUJERES EN ADEFO CINCO VILLAS
DESCRIPTION:Los próximos días 3 y 4 de febrero de 9.30 a 13.30 y de 16.00 a 20.00h en la sede de Adefo Cinco Villas\, Plaza de la Diputación 4\, Ejea de los Caballeros\, se celebrará el taller ENCUENTRA TU RUTA del proyecto GIRA Mujeres promovido por Coca-Cola y realizado por Almanatura con la colaboración Adefo Cinco Villas. \nEl taller tiene el objetivo de favorecer el empoderamiento de la mujer en la toma de decisiones en su ámbito profesional y personal mediante el impulso de sus proyectos e iniciativas laborales. El programa consistirá en realizar dos sesiones gratuitas para cada grupo acompañados de facilitadoras que aplicarán metodologías participativas en orientación laboral\, sensibilización emprendedora e innovación empresarial. \nLas mujeres interesadas en participar\, podrán hacerlo a través del siguiente enlace: https://preinscripcion.giramujeres.com/alma \nSi necesitas más información\, puedes escribir un correo a ines@almanatura.com o llamar al número: 644.745.184 \n 
URL:https://adefo.com/agenda/4a-edicion-del-taller-gira-mujeres-en-adefo-cinco-villas/
ATTACH;FMTTYPE=image/jpeg:https://adefo.com/wp-content/uploads/2020/01/Cartel_General_4ª_Edición_page-0001.jpg
END:VEVENT
BEGIN:VEVENT
DTSTART;TZID=UTC:20200205T153000
DTEND;TZID=UTC:20200205T170000
DTSTAMP:20260421T085418
CREATED:20200128T080346Z
LAST-MODIFIED:20200128T151445Z
UID:26386-1580916600-1580922000@adefo.com
SUMMARY:CAFÉ CON IDEA. CÓMO AUMENTAR LA RENTABILIDAD DE TU NEGOCIO
DESCRIPTION:En ocasiones pensamos que dedicamos mucho tiempo a nuestros negocios para el beneficio que obtenemos. Si queremos mejorar nuestros resultados tendremos que actuar de manera diferente. \nEn nuestro próximo Café con Idea\, te propondremos algunas ideas para mejorar la rentabilidad económica de tu negocio. A partir de un análisis de la situación actual te ofreceremos algunas soluciones y herramientas para orientarte en la toma de decisiones correctas que den un nuevo valor a tu negocio. \nNuestro ponente será David Moreno Arnas\, acelerador de negocios y socio director de Bagua Corporate\, que desde hace 14 años se dedica a la mediación en compra venta de empresas y el crecimiento empresarial. \n  \nCAFÉ CON IDEA: miércoles\, 5 de febrero a las 15\,30 h en ADEFO (Pza. de la Diputación\, 4 – Antiguo Colegio Cervantes). Recuerda que la entrada es libre y no precisa inscripción previa. \n 
URL:https://adefo.com/agenda/cafe-con-idea-como-aumentar-la-rentabilidad-de-tu-negocio/
ATTACH;FMTTYPE=image/jpeg:https://adefo.com/wp-content/uploads/2020/01/café-con-idea-3.jpg
END:VEVENT
END:VCALENDAR