BEGIN:VCALENDAR
VERSION:2.0
PRODID:-//ADEFO - ECPv6.7.0//NONSGML v1.0//EN
CALSCALE:GREGORIAN
METHOD:PUBLISH
X-WR-CALNAME:ADEFO
X-ORIGINAL-URL:https://adefo.com
X-WR-CALDESC:Eventos para ADEFO
REFRESH-INTERVAL;VALUE=DURATION:PT1H
X-Robots-Tag:noindex
X-PUBLISHED-TTL:PT1H
BEGIN:VTIMEZONE
TZID:UTC
BEGIN:STANDARD
TZOFFSETFROM:+0000
TZOFFSETTO:+0000
TZNAME:UTC
DTSTART:20180101T000000
END:STANDARD
END:VTIMEZONE
BEGIN:VEVENT
DTSTART;TZID=UTC:20181107T153000
DTEND;TZID=UTC:20181107T170000
DTSTAMP:20260422T120825
CREATED:20181106T135112Z
LAST-MODIFIED:20181106T135112Z
UID:24733-1541604600-1541610000@adefo.com
SUMMARY:CAFÉ CON IDEA. CLAVES PARA LA TRANSMISIÓN DE TU EMPRESA O NEGOCIO
DESCRIPTION:Vivimos en un momento en el que muchas empresas y negocios viables económicamente no tienen sucesión interna\, y se encuentran con dificultades para transmitir la propiedad a alguien que continúe su actividad\, muchas veces no por falta de interesados\, sino de previsión y planificación\, o por desconocer el procedimiento y las acciones a seguir. \nEn nuestro próximo Café con Idea\, organizado en colaboración con la Asociación Empresarial de las Cinco Villas y CEOE Aragón\, Javier Eslava\, socio Director de Capital intelectual\, consejero y asesor en diversas empresas y Foros de Inversión nos ofrecerá su experiencia y asesoramiento en la transmisión de empresas o negocios\, dándonos las claves para obtener acuerdos de venta satisfactorios. \n¡Te esperamos!\nCAFÉ CON IDEA: miércoles\, 7 de noviembre a las 15\,30 h en ADEFO (Pza. de la Diputación\, 4 – Antiguo Colegio Cervantes). Recuerda que la entrada es libre y no precisa inscripción previa \n  \n 
URL:https://adefo.com/agenda/cafe-con-idea-claves-para-la-transmision-de-tu-empresa-o-negocio/
LOCATION:Zaragoza
ATTACH;FMTTYPE=image/png:https://adefo.com/wp-content/uploads/2018/10/café-con-idea-7-noviembre-2018.png
END:VEVENT
BEGIN:VEVENT
DTSTART;TZID=UTC:20181117T093000
DTEND;TZID=UTC:20181117T133000
DTSTAMP:20260422T120825
CREATED:20181106T140806Z
LAST-MODIFIED:20181106T140806Z
UID:24736-1542447000-1542461400@adefo.com
SUMMARY:TALLER COLABORADORES PUEBLOS VIVOS _ HERRAMIENTAS PARA TRABAJO EN EQUIPO I
DESCRIPTION:  \n  \nPrimero de los dos talleres programados en colaboración con la Coordinadora Aragonesa de Voluntariado\, con el objetivo de ofrecer una serie de acciones formativas que sirvan para mejorar el trabajo y los beneficios de las asociaciones cincovillesas de una forma más eficaz y motivante\, dándoles un nuevo enfoque o simples consejo. \nLa actividad forma parte del proyecto de cooperación interterritorial “Pueblos Vivos”\, que pretende potenciar el mantenimiento de la población\, la vida social y cultural en los pueblos y estimular la instalación y acogida de nuevos pobladores. \n 
URL:https://adefo.com/agenda/taller-colaboradores-pueblos-vivos-_-herramientas-para-trabajo-en-equipo-i/
LOCATION:Adefo 5 Villas\, Calle Cervantes\, 9\, Ejea de los caballeros\, Zaragoza\, 50600\, España
ATTACH;FMTTYPE=image/jpeg:https://adefo.com/wp-content/uploads/2018/11/17.11.18Herramientas-trabajo-en-equipo-II-5-villas.jpg
END:VEVENT
BEGIN:VEVENT
DTSTART;VALUE=DATE:20181120
DTEND;VALUE=DATE:20181122
DTSTAMP:20260422T120825
CREATED:20181123T090731Z
LAST-MODIFIED:20181123T090731Z
UID:24807-1542672000-1542844799@adefo.com
SUMMARY:JORNADAS TÉCNICAS RADR DESPOBLACIÓN Y DESARROLLO RURAL
DESCRIPTION:  \nJornadas «Despoblación y desarrollo rural»\, organizadas por La Red Aragonesa De Desarrollo Rural y Ceder Zona Oriental de Huesca en Monzón
URL:https://adefo.com/agenda/jornadas-tecnicas-radr-despoblacion-y-desarrollo-rural/
LOCATION:Plaza. Aragón número 6\, 22400 Monzón (Huesca)\, plaza Aragón 6\, Monzón\, zaragoza\, 22400\, España
ATTACH;FMTTYPE=image/jpeg:https://adefo.com/wp-content/uploads/2018/11/46504117_1895713887193638_3959461506151612416_o.jpg
END:VEVENT
BEGIN:VEVENT
DTSTART;TZID=UTC:20181124T090000
DTEND;TZID=UTC:20181124T130000
DTSTAMP:20260422T120825
CREATED:20181106T141223Z
LAST-MODIFIED:20181122T104552Z
UID:24741-1543050000-1543064400@adefo.com
SUMMARY:TALLER COLABORADORES PUEBLOS VIVOS _ HERRAMIENTAS PARA TRABAJO EN EQUIPO II
DESCRIPTION:  \n  \nSegundo de los dos talleres programados en colaboración con la Coordinadora Aragonesa de Voluntariado\, con el objetivo de ofrecer una serie de acciones formativas que sirvan para mejorar el trabajo y los beneficios de las asociaciones cincovillesas de una forma más eficaz y motivante\, dándoles un nuevo enfoque o simples consejo. \nLa actividad forma parte del proyecto de cooperación interterritorial “Pueblos Vivos”\, que pretende potenciar el mantenimiento de la población\, la vida social y cultural en los pueblos y estimular la instalación y acogida de nuevos pobladores. \n 
URL:https://adefo.com/agenda/taller-colaboradores-pueblos-vivos-_-herramientas-para-trabajo-en-equipo-i-2/
LOCATION:Adefo 5 Villas\, Calle Cervantes\, 9\, Ejea de los caballeros\, Zaragoza\, 50600\, España
ATTACH;FMTTYPE=image/jpeg:https://adefo.com/wp-content/uploads/2018/11/24.11.18Taller-Herramientas-para-el-trabajo-en-equipo-I-ADEFO.jpg
END:VEVENT
END:VCALENDAR