BEGIN:VCALENDAR
VERSION:2.0
PRODID:-//ADEFO - ECPv6.7.0//NONSGML v1.0//EN
CALSCALE:GREGORIAN
METHOD:PUBLISH
X-WR-CALNAME:ADEFO
X-ORIGINAL-URL:https://adefo.com
X-WR-CALDESC:Eventos para ADEFO
REFRESH-INTERVAL;VALUE=DURATION:PT1H
X-Robots-Tag:noindex
X-PUBLISHED-TTL:PT1H
BEGIN:VTIMEZONE
TZID:UTC
BEGIN:STANDARD
TZOFFSETFROM:+0000
TZOFFSETTO:+0000
TZNAME:UTC
DTSTART:20180101T000000
END:STANDARD
END:VTIMEZONE
BEGIN:VEVENT
DTSTART;TZID=UTC:20181001T080000
DTEND;TZID=UTC:20181001T170000
DTSTAMP:20260422T133112
CREATED:20181005T091704Z
LAST-MODIFIED:20181005T092052Z
UID:24648-1538380800-1538413200@adefo.com
SUMMARY:EL 1 DE OCTUBRE FINALIZA EL SEGUNDO PLAZO PARA SOLICITAR LAS AYUDAS LEADER 2018 EN ADEFO CINCO VILLAS
DESCRIPTION:
URL:https://adefo.com/agenda/el-1-de-octubre-finaliza-el-segundo-plazo-para-solicitar-las-ayudas-leader-2018-en-adefo-cinco-villas/
LOCATION:Zaragoza
ATTACH;FMTTYPE=image/jpeg:https://adefo.com/wp-content/uploads/2018/09/LEADER-SEGUNDA-FASE-2018.jpg
END:VEVENT
BEGIN:VEVENT
DTSTART;TZID=UTC:20181003T153000
DTEND;TZID=UTC:20181003T173000
DTSTAMP:20260422T133112
CREATED:20180925T090925Z
LAST-MODIFIED:20201130T084315Z
UID:24625-1538580600-1538587800@adefo.com
SUMMARY:Claves para la gestión de voluntariado
DESCRIPTION:El mundo del voluntariado nos interesa a todos. Seguramente te interesa saber quién puede gestionar acciones de voluntariado y qué requisitos debe cumplir. O quizás seas ya un voluntario y quieras conocer tus derechos y deberes o los de tu organización. \nEn nuestro próximo Café con Idea\, María Martínez Lozano\, responsable territorial de la Coordinadora Aragonesa de Voluntariado nos va a dar las claves sobre cómo organizar de la mejor manera una organización de voluntariado y nos hablará de cuestiones prácticas como seguros\, acuerdos\, planes de voluntariado\, entre otras muchas cuestiones. \n¿Nos acompañas? \nCAFÉ CON IDEA: Miércoles\, 3 de octubre a las 15\,30 h en ADEFO (Pza. de la Diputación – 4 – Antiguo Colegio Cervantes). Recuerda que la entrada es libre y no precisa inscripción previa.
URL:https://adefo.com/agenda/cafe-con-idea-6/
LOCATION:Adefo 5 Villas\, Calle Cervantes\, 9\, Ejea de los caballeros\, Zaragoza\, 50600\, España
ATTACH;FMTTYPE=image/png:https://adefo.com/wp-content/uploads/2018/09/café-con-idea_claves-voluntariado.png
END:VEVENT
BEGIN:VEVENT
DTSTART;VALUE=DATE:20181022
DTEND;VALUE=DATE:20181029
DTSTAMP:20260422T133112
CREATED:20181017T115611Z
LAST-MODIFIED:20181017T115611Z
UID:24674-1540166400-1540771199@adefo.com
SUMMARY:III Semana de la Persona Emprendedora en Ejea
DESCRIPTION:La tercera edición de la Semana de la Persona Emprendedora de Ejea tendrá lugar del 22 al 28 de octubre próximos. Acercar el emprendimiento a los jóvenes\, hablar de emprendimiento social\, premiar las iniciativas emprendedoras\, dar a conocer a Ejea Emprendedora y celebrar un encuentro con los comercios locales son las piezas de esta semana dedicada a ensalzar la figura de las personas emprendedoras \n  \n  \n\n	Cartel-III-Semana-de-la-Persona-Emprendedora-en-Ejea.pdf\n\n	NP-III-Semana-de-la-Persona-Emprendedora-en-Ejea-2018.pdf
URL:https://adefo.com/agenda/iii-semana-de-la-persona-emprendedora-en-ejea/
LOCATION:Zaragoza
ATTACH;FMTTYPE=image/png:https://adefo.com/wp-content/uploads/2018/10/web.png
END:VEVENT
BEGIN:VEVENT
DTSTART;TZID=UTC:20181024T183000
DTEND;TZID=UTC:20181024T200000
DTSTAMP:20260422T133112
CREATED:20181023T142803Z
LAST-MODIFIED:20181023T150031Z
UID:24687-1540405800-1540411200@adefo.com
SUMMARY:Presentación EL PROGRAMA DE DESARROLLO RURAL DE ARAGÓN Y SU INCIDENCIA EN LA COMARCA DE LAS CINCO VILLAS
DESCRIPTION:El Consejero de Desarrollo Rural y Sostenibilidad del Gobierno de Aragón\, JOAQUÍN OLONA\, se complace en invitaros a la presentación del PROGRAMA DE DESARROLLO RURAL DE ARAGÓN Y SU INCIDENCIA EN LA COMARCA DE LAS CINCO VILLAS\,  el próximo miércoles\, 24 de octubre\, a las 18\,30h en Aquagraria\, Ejea de los Caballeros. \nInauguran el evento JOSÉ LUIS CASTELLANO\, Secretario General Técnico del Departamento de Desarrollo Rural del Gobierno de Aragón\,  TERESA LADRERO\, Alcadesa del Ayuntamiento de Ejea y SANTOS NAVARRO\, Presidente de Comarca de las Cinco Villas.
URL:https://adefo.com/agenda/presentacion-el-programa-de-desarrollo-rural-de-aragon-y-su-incidencia-en-la-comarca-de-las-cinco-villas/
LOCATION:Zaragoza
ATTACH;FMTTYPE=image/jpeg:https://adefo.com/wp-content/uploads/2018/10/PROGRAMA-1.jpg
END:VEVENT
END:VCALENDAR