BEGIN:VCALENDAR
VERSION:2.0
PRODID:-//ADEFO - ECPv6.7.0//NONSGML v1.0//EN
CALSCALE:GREGORIAN
METHOD:PUBLISH
X-WR-CALNAME:ADEFO
X-ORIGINAL-URL:https://adefo.com
X-WR-CALDESC:Eventos para ADEFO
REFRESH-INTERVAL;VALUE=DURATION:PT1H
X-Robots-Tag:noindex
X-PUBLISHED-TTL:PT1H
BEGIN:VTIMEZONE
TZID:UTC
BEGIN:STANDARD
TZOFFSETFROM:+0000
TZOFFSETTO:+0000
TZNAME:UTC
DTSTART:20180101T000000
END:STANDARD
END:VTIMEZONE
BEGIN:VEVENT
DTSTART;TZID=UTC:20180307T153000
DTEND;TZID=UTC:20180307T170000
DTSTAMP:20260422T234459
CREATED:20180301T083853Z
LAST-MODIFIED:20180301T092105Z
UID:23543-1520436600-1520442000@adefo.com
SUMMARY:Café con Idea: Nuevo Reglamento sobre protección de datos
DESCRIPTION:Para ponernos al día sobre el nuevo marco legal y sus implicaciones en el día a día de las empresas\, hemos invitado a nuestro próximo Café con Idea a Roberto García Trillo\, de Telinsec\, especialista en servicios de seguridad de la información y de las telecomunicaciones. \nAdemás de desvelarnos los entresijos de la nueva legislación\, nos hablará de algunas herramientas para que la empresa puede adaptarse a ella de una manera sencilla y eficaz \nNo te lo pierdas. \nCAFÉ CON IDEA: Miércoles\, 7 de marzo\, a las 15\,30 h en ADEFO (Pza. de la Diputación\, 4 – Antiguo Colegio Cervantes). Recuerda que la entrada es libre y no precisa inscripción previa.
URL:https://adefo.com/agenda/cafe-con-idea-nuevo-reglamento-sobre-proteccion-de-datos/
LOCATION:Zaragoza
ATTACH;FMTTYPE=image/jpeg:https://adefo.com/wp-content/uploads/2018/03/cafe-con-idea-7-marzo.jpg
END:VEVENT
END:VCALENDAR