BEGIN:VCALENDAR
VERSION:2.0
PRODID:-//ADEFO - ECPv6.7.0//NONSGML v1.0//EN
CALSCALE:GREGORIAN
METHOD:PUBLISH
X-ORIGINAL-URL:https://adefo.com
X-WR-CALDESC:Eventos para ADEFO
REFRESH-INTERVAL;VALUE=DURATION:PT1H
X-Robots-Tag:noindex
X-PUBLISHED-TTL:PT1H
BEGIN:VTIMEZONE
TZID:UTC
BEGIN:STANDARD
TZOFFSETFROM:+0000
TZOFFSETTO:+0000
TZNAME:UTC
DTSTART:20260101T000000
END:STANDARD
END:VTIMEZONE
BEGIN:VEVENT
DTSTART;VALUE=DATE:20260306
DTEND;VALUE=DATE:20260523
DTSTAMP:20260424T135817
CREATED:20260318T092637Z
LAST-MODIFIED:20260318T092700Z
UID:46863-1772755200-1779494399@adefo.com
SUMMARY:Escuela municipal de familias en Ejea de los Caballeros
DESCRIPTION:
URL:https://adefo.com/agenda/escuela-municipal-de-familias-en-ejea-de-los-caballeros-2/
LOCATION:Zaragoza
CATEGORIES:DE LA A A LA U difusión cultural Cinco Villas
ATTACH;FMTTYPE=image/jpeg:https://adefo.com/wp-content/uploads/2026/03/WhatsApp-Image-2026-03-02-at-09.20.01.jpeg
END:VEVENT
BEGIN:VEVENT
DTSTART;VALUE=DATE:20260321
DTEND;VALUE=DATE:20260614
DTSTAMP:20260424T135817
CREATED:20260318T120058Z
LAST-MODIFIED:20260318T120058Z
UID:46914-1774051200-1781395199@adefo.com
SUMMARY:Celebrando la primavera con la cultura en Ejea de los Caballeros
DESCRIPTION:
URL:https://adefo.com/agenda/celebrando-la-primavera-con-la-cultura-en-ejea-de-los-caballeros/
LOCATION:Zaragoza
CATEGORIES:DE LA A A LA U difusión cultural Cinco Villas
ATTACH;FMTTYPE=image/jpeg:https://adefo.com/wp-content/uploads/2026/03/WhatsApp-Image-2026-03-18-at-12.52.09.jpeg
END:VEVENT
BEGIN:VEVENT
DTSTART;VALUE=DATE:20260321
DTEND;VALUE=DATE:20260531
DTSTAMP:20260424T135817
CREATED:20260408T081253Z
LAST-MODIFIED:20260408T081253Z
UID:47042-1774051200-1780185599@adefo.com
SUMMARY:Permacultura en las Cinco Villas
DESCRIPTION:
URL:https://adefo.com/agenda/permacultura-en-las-cinco-villas/
LOCATION:Zaragoza
CATEGORIES:DE LA A A LA U difusión cultural Cinco Villas
ATTACH;FMTTYPE=image/jpeg:https://adefo.com/wp-content/uploads/2026/04/653105884_122259419930060620_6767271668137627.jpg
END:VEVENT
BEGIN:VEVENT
DTSTART;VALUE=DATE:20260405
DTEND;VALUE=DATE:20260501
DTSTAMP:20260424T135817
CREATED:20260401T085127Z
LAST-MODIFIED:20260401T085127Z
UID:46994-1775347200-1777593599@adefo.com
SUMMARY:Tardes de cine en Tauste
DESCRIPTION:
URL:https://adefo.com/agenda/tardes-de-cine-en-tauste/
LOCATION:Casa de cultura
CATEGORIES:DE LA A A LA U difusión cultural Cinco Villas
ATTACH;FMTTYPE=image/jpeg:https://adefo.com/wp-content/uploads/2026/04/WhatsApp-Image-2026-03-30-at-10.28.38.jpeg
END:VEVENT
BEGIN:VEVENT
DTSTART;VALUE=DATE:20260412
DTEND;VALUE=DATE:20260621
DTSTAMP:20260424T135817
CREATED:20260401T084510Z
LAST-MODIFIED:20260401T084510Z
UID:46984-1775952000-1781999999@adefo.com
SUMMARY:Jornadas astronómicas sobre el eclipse solar en Las Cinco Villas
DESCRIPTION:
URL:https://adefo.com/agenda/jornadas-astronomicas-sobre-el-eclipse-solar-en-las-cinco-villas/
LOCATION:Zaragoza
CATEGORIES:DE LA A A LA U difusión cultural Cinco Villas
ATTACH;FMTTYPE=image/jpeg:https://adefo.com/wp-content/uploads/2026/04/656899144_1700743788025138_86420493585305.jpg
END:VEVENT
BEGIN:VEVENT
DTSTART;VALUE=DATE:20260413
DTEND;VALUE=DATE:20260522
DTSTAMP:20260424T135817
CREATED:20260415T081859Z
LAST-MODIFIED:20260422T110203Z
UID:47155-1776038400-1779407999@adefo.com
SUMMARY:Exposición "Los noventa al pie de la letra"\, en Ejea de los Caballeros
DESCRIPTION:
URL:https://adefo.com/agenda/exposicion-los-noventa-al-pie-de-la-letra-en-ejea-de-los-caballeros/
LOCATION:Sala de exposiciones de la Casa Parroquial de Ejea de los Caballeros
CATEGORIES:DE LA A A LA U difusión cultural Cinco Villas
ATTACH;FMTTYPE=image/jpeg:https://adefo.com/wp-content/uploads/2026/04/WhatsApp-Image-2026-04-13-at-13.31.47.jpeg
END:VEVENT
BEGIN:VEVENT
DTSTART;VALUE=DATE:20260415
DTEND;VALUE=DATE:20260706
DTSTAMP:20260424T135817
CREATED:20260415T082928Z
LAST-MODIFIED:20260415T082928Z
UID:47161-1776211200-1783295999@adefo.com
SUMMARY:I Torneo de fútbol 7 en Castiliscar
DESCRIPTION:
URL:https://adefo.com/agenda/i-torneo-de-futbol-7-en-castiliscar/
LOCATION:Zaragoza
CATEGORIES:DE LA A A LA U difusión cultural Cinco Villas
ATTACH;FMTTYPE=image/jpeg:https://adefo.com/wp-content/uploads/2026/04/WhatsApp-Image-2026-04-15-at-09.53.27-1.jpeg
END:VEVENT
BEGIN:VEVENT
DTSTART;VALUE=DATE:20260416
DTEND;VALUE=DATE:20260501
DTSTAMP:20260424T135817
CREATED:20260410T072959Z
LAST-MODIFIED:20260410T073425Z
UID:47080-1776297600-1777593599@adefo.com
SUMMARY:I Encuentro de Ilustración Editorial en Ejea de los Caballeros
DESCRIPTION:
URL:https://adefo.com/agenda/i-encuentro-de-ilustracion-editorial-en-ejea-de-los-caballeros/
LOCATION:Museo Aquagraria\, C/ Manuel Lorenzo Pardo\, s/n\, Ejea de los Caballeros\, 50600\, Spain
CATEGORIES:DE LA A A LA U difusión cultural Cinco Villas
ATTACH;FMTTYPE=image/jpeg:https://adefo.com/wp-content/uploads/2026/04/0af863f3-a105-4fd2-90fe-f14d2af66125.jpg
END:VEVENT
BEGIN:VEVENT
DTSTART;VALUE=DATE:20260421
DTEND;VALUE=DATE:20260521
DTSTAMP:20260424T135817
CREATED:20260415T080437Z
LAST-MODIFIED:20260415T080437Z
UID:47137-1776729600-1779321599@adefo.com
SUMMARY:Exposición "Crónica ilustrada. Un día en Ejea de los Caballeros"
DESCRIPTION:
URL:https://adefo.com/agenda/exposicion-cronica-ilustrada-un-dia-en-ejea-de-los-caballeros/
LOCATION:Zaragoza
ATTACH;FMTTYPE=image/jpeg:https://adefo.com/wp-content/uploads/2026/04/WhatsApp-Image-2026-04-15-at-09.54.34.jpeg
END:VEVENT
BEGIN:VEVENT
DTSTART;VALUE=DATE:20260423
DTEND;VALUE=DATE:20260504
DTSTAMP:20260424T135817
CREATED:20260408T075619Z
LAST-MODIFIED:20260408T080236Z
UID:47035-1776902400-1777852799@adefo.com
SUMMARY:Curso monitor de ocio y tiempo libre en Ejea de los Caballeros
DESCRIPTION:
URL:https://adefo.com/agenda/curso-monitor-de-ocio-y-tiempo-libre-en-ejea-de-los-caballeros/
LOCATION:Zaragoza
CATEGORIES:DE LA A A LA U difusión cultural Cinco Villas
ATTACH;FMTTYPE=image/jpeg:https://adefo.com/wp-content/uploads/2026/04/WhatsApp-Image-2026-04-08-at-08.39.04.jpeg
END:VEVENT
BEGIN:VEVENT
DTSTART;VALUE=DATE:20260425
DTEND;VALUE=DATE:20260426
DTSTAMP:20260424T135817
CREATED:20260410T131840Z
LAST-MODIFIED:20260410T131840Z
UID:47110-1777075200-1777161599@adefo.com
SUMMARY:Fiesta de la Pascua en Ejea de los Caballeros
DESCRIPTION:
URL:https://adefo.com/agenda/fiesta-de-la-pascua-en-ejea-de-los-caballeros/
LOCATION:Parque central
CATEGORIES:DE LA A A LA U difusión cultural Cinco Villas
ATTACH;FMTTYPE=image/jpeg:https://adefo.com/wp-content/uploads/2026/04/667330967_26530058626604760_85964025004546968.jpg
END:VEVENT
BEGIN:VEVENT
DTSTART;VALUE=DATE:20260425
DTEND;VALUE=DATE:20260426
DTSTAMP:20260424T135817
CREATED:20260415T081409Z
LAST-MODIFIED:20260415T081409Z
UID:47149-1777075200-1777161599@adefo.com
SUMMARY:Celebramos San Jorge en El Frago
DESCRIPTION:
URL:https://adefo.com/agenda/celebramos-san-jorge-en-el-frago/
LOCATION:Zaragoza
CATEGORIES:DE LA A A LA U difusión cultural Cinco Villas
ATTACH;FMTTYPE=image/jpeg:https://adefo.com/wp-content/uploads/2026/04/En-El-Frago.jpeg
END:VEVENT
BEGIN:VEVENT
DTSTART;VALUE=DATE:20260425
DTEND;VALUE=DATE:20260426
DTSTAMP:20260424T135817
CREATED:20260422T085606Z
LAST-MODIFIED:20260422T085606Z
UID:47236-1777075200-1777161599@adefo.com
SUMMARY:Mercadillo solidario en Layana
DESCRIPTION:
URL:https://adefo.com/agenda/mercadillo-solidario-en-layana/
LOCATION:Pista polideportiva
CATEGORIES:DE LA A A LA U difusión cultural Cinco Villas
ATTACH;FMTTYPE=image/jpeg:https://adefo.com/wp-content/uploads/2026/04/WhatsApp-Image-2026-04-21-at-16.36.13-1.jpeg
END:VEVENT
BEGIN:VEVENT
DTSTART;VALUE=DATE:20260425
DTEND;VALUE=DATE:20260427
DTSTAMP:20260424T135817
CREATED:20260422T090118Z
LAST-MODIFIED:20260422T090118Z
UID:47239-1777075200-1777247999@adefo.com
SUMMARY:Los Bañales 2026 en Layana
DESCRIPTION:
URL:https://adefo.com/agenda/los-banales-2026-en-layana/
LOCATION:Zaragoza
CATEGORIES:DE LA A A LA U difusión cultural Cinco Villas
ATTACH;FMTTYPE=image/jpeg:https://adefo.com/wp-content/uploads/2026/04/WhatsApp-Image-2026-04-21-at-16.36.13.jpeg
END:VEVENT
BEGIN:VEVENT
DTSTART;TZID=UTC:20260425T100000
DTEND;TZID=UTC:20260425T140000
DTSTAMP:20260424T135817
CREATED:20260415T081215Z
LAST-MODIFIED:20260415T081215Z
UID:47146-1777111200-1777125600@adefo.com
SUMMARY:I Jornada de intercambio de libros en El Frago
DESCRIPTION:
URL:https://adefo.com/agenda/i-jornada-de-intercambio-de-libros-en-el-frago/
LOCATION:El chiringuito
CATEGORIES:DE LA A A LA U difusión cultural Cinco Villas
ATTACH;FMTTYPE=image/jpeg:https://adefo.com/wp-content/uploads/2026/04/El-Frago.jpeg
END:VEVENT
BEGIN:VEVENT
DTSTART;TZID=UTC:20260425T100000
DTEND;TZID=UTC:20260425T190000
DTSTAMP:20260424T135817
CREATED:20260417T115959Z
LAST-MODIFIED:20260417T115959Z
UID:47189-1777111200-1777143600@adefo.com
SUMMARY:Paseo por Boalares para niños y jóvenes
DESCRIPTION:
URL:https://adefo.com/agenda/paseo-por-boalares-para-ninos-y-jovenes/
LOCATION:Salida desde Club Eras Altas
CATEGORIES:DE LA A A LA U difusión cultural Cinco Villas
ATTACH;FMTTYPE=image/jpeg:https://adefo.com/wp-content/uploads/2026/04/WhatsApp-Image-2026-04-17-at-08.35.23.jpeg
END:VEVENT
BEGIN:VEVENT
DTSTART;TZID=UTC:20260425T200000
DTEND;TZID=UTC:20260425T200000
DTSTAMP:20260424T135817
CREATED:20260422T090442Z
LAST-MODIFIED:20260422T090442Z
UID:47242-1777147200-1777147200@adefo.com
SUMMARY:Espectáculo "La dignidad"\, en Ejea de los Caballeros
DESCRIPTION:
URL:https://adefo.com/agenda/espectaculo-la-dignidad-en-ejea-de-los-caballeros/
LOCATION:Teatro de la Villa\, Plaza de la Oliva\, Ejea de los Caballeros\, Zaragoza\, 50600\, Spain
CATEGORIES:DE LA A A LA U difusión cultural Cinco Villas
ATTACH;FMTTYPE=image/jpeg:https://adefo.com/wp-content/uploads/2026/04/WhatsApp-Image-2026-04-22-at-10.41.29.jpeg
END:VEVENT
BEGIN:VEVENT
DTSTART;VALUE=DATE:20260426
DTEND;VALUE=DATE:20260427
DTSTAMP:20260424T135817
CREATED:20260318T093156Z
LAST-MODIFIED:20260318T093156Z
UID:46869-1777161600-1777247999@adefo.com
SUMMARY:III Andada senderista Peña "LA Bailadera" en Castiliscar
DESCRIPTION:
URL:https://adefo.com/agenda/iii-andada-senderista-pena-la-bailadera-en-castiliscar/
LOCATION:Zaragoza
CATEGORIES:DE LA A A LA U difusión cultural Cinco Villas
ATTACH;FMTTYPE=image/jpeg:https://adefo.com/wp-content/uploads/2026/03/WhatsApp-Image-2026-03-11-at-10.49.22.jpeg
END:VEVENT
BEGIN:VEVENT
DTSTART;TZID=UTC:20260426T130000
DTEND;TZID=UTC:20260426T130000
DTSTAMP:20260424T135817
CREATED:20260422T083202Z
LAST-MODIFIED:20260422T083202Z
UID:47214-1777208400-1777208400@adefo.com
SUMMARY:Concierto de la Banda de música de Layana en Los Bañales
DESCRIPTION:
URL:https://adefo.com/agenda/concierto-de-la-banda-de-musica-de-layana-en-los-banales/
LOCATION:Ermita de Los Bañales
CATEGORIES:DE LA A A LA U difusión cultural Cinco Villas
ATTACH;FMTTYPE=image/jpeg:https://adefo.com/wp-content/uploads/2026/04/672684891_3232432746965406_56170658899870972.jpg
END:VEVENT
BEGIN:VEVENT
DTSTART;VALUE=DATE:20260430
DTEND;VALUE=DATE:20260505
DTSTAMP:20260424T135817
CREATED:20260417T113148Z
LAST-MODIFIED:20260417T113148Z
UID:47174-1777507200-1777939199@adefo.com
SUMMARY:Fiestas de mayo 2026 en Sádaba
DESCRIPTION:
URL:https://adefo.com/agenda/fiestas-de-mayo-2026-en-sadaba/
LOCATION:Zaragoza
CATEGORIES:DE LA A A LA U difusión cultural Cinco Villas
ATTACH;FMTTYPE=image/jpeg:https://adefo.com/wp-content/uploads/2026/04/WhatsApp-Image-2026-04-15-at-11.31.30.jpeg
END:VEVENT
BEGIN:VEVENT
DTSTART;TZID=UTC:20260430T233000
DTEND;TZID=UTC:20260430T233000
DTSTAMP:20260424T135817
CREATED:20260417T115205Z
LAST-MODIFIED:20260417T115205Z
UID:47180-1777591800-1777591800@adefo.com
SUMMARY:Concierto Vinilos Rayados en Luna
DESCRIPTION:
URL:https://adefo.com/agenda/concierto-vinilos-rayados-en-luna/
LOCATION:Casa de cultura
CATEGORIES:DE LA A A LA U difusión cultural Cinco Villas
ATTACH;FMTTYPE=image/jpeg:https://adefo.com/wp-content/uploads/2026/04/669704746_1561745219289254_5494599660086532927_n.jpg
END:VEVENT
BEGIN:VEVENT
DTSTART;VALUE=DATE:20260501
DTEND;VALUE=DATE:20260517
DTSTAMP:20260424T135817
CREATED:20260410T131157Z
LAST-MODIFIED:20260410T131157Z
UID:47104-1777593600-1778975999@adefo.com
SUMMARY:Programación de primavera en Rivas
DESCRIPTION:
URL:https://adefo.com/agenda/programacion-de-primavera-en-rivas/
LOCATION:Zaragoza
CATEGORIES:DE LA A A LA U difusión cultural Cinco Villas
ATTACH;FMTTYPE=image/jpeg:https://adefo.com/wp-content/uploads/2026/04/661004545_4291197017799642_266013773853588549.jpg
END:VEVENT
BEGIN:VEVENT
DTSTART;VALUE=DATE:20260502
DTEND;VALUE=DATE:20260503
DTSTAMP:20260424T135817
CREATED:20260410T130921Z
LAST-MODIFIED:20260410T130921Z
UID:47101-1777680000-1777766399@adefo.com
SUMMARY:XVIII Feria del conejo escabechado en Castejón de Valdejasa
DESCRIPTION:
URL:https://adefo.com/agenda/xviii-feria-del-conejo-escabechado-en-castejon-de-valdejasa/
LOCATION:Zaragoza
CATEGORIES:DE LA A A LA U difusión cultural Cinco Villas
ATTACH;FMTTYPE=image/jpeg:https://adefo.com/wp-content/uploads/2026/04/658829915_10232611537695334_26223334120373013.jpg
END:VEVENT
BEGIN:VEVENT
DTSTART;VALUE=DATE:20260503
DTEND;VALUE=DATE:20260504
DTSTAMP:20260424T135817
CREATED:20260204T090419Z
LAST-MODIFIED:20260204T090419Z
UID:46685-1777766400-1777852799@adefo.com
SUMMARY:Campeonato de tiro en Sos del Rey Católico
DESCRIPTION:
URL:https://adefo.com/agenda/campeonato-de-tiro-en-sos-del-rey-catolico-10/
LOCATION:Deportivo Calderón de Sos
CATEGORIES:DE LA A A LA U difusión cultural Cinco Villas
ATTACH;FMTTYPE=image/jpeg:https://adefo.com/wp-content/uploads/2026/02/WhatsApp-Image-2026-01-21-at-22.22.55.jpeg
END:VEVENT
BEGIN:VEVENT
DTSTART;TZID=UTC:20260507T230000
DTEND;TZID=UTC:20260507T230000
DTSTAMP:20260424T135817
CREATED:20260422T082230Z
LAST-MODIFIED:20260422T082230Z
UID:47211-1778194800-1778194800@adefo.com
SUMMARY:Concierto Vinilos Rayados en Erla
DESCRIPTION:
URL:https://adefo.com/agenda/concierto-vinilos-rayados-en-erla/
LOCATION:Pabellón municipal\, Spain
CATEGORIES:DE LA A A LA U difusión cultural Cinco Villas
ATTACH;FMTTYPE=image/jpeg:https://adefo.com/wp-content/uploads/2026/04/672321643_1566450928818683_17345185115953092.jpg
END:VEVENT
BEGIN:VEVENT
DTSTART;VALUE=DATE:20260508
DTEND;VALUE=DATE:20260511
DTSTAMP:20260424T135817
CREATED:20260417T115425Z
LAST-MODIFIED:20260417T115425Z
UID:47183-1778198400-1778457599@adefo.com
SUMMARY:Fiestas de mayo en Castiliscar
DESCRIPTION:
URL:https://adefo.com/agenda/fiestas-de-mayo-en-castiliscar/
LOCATION:Zaragoza
CATEGORIES:DE LA A A LA U difusión cultural Cinco Villas
ATTACH;FMTTYPE=image/jpeg:https://adefo.com/wp-content/uploads/2026/04/WhatsApp-Image-2026-04-15-at-09.53.27.jpeg
END:VEVENT
BEGIN:VEVENT
DTSTART;VALUE=DATE:20260509
DTEND;VALUE=DATE:20260510
DTSTAMP:20260424T135817
CREATED:20260410T140354Z
LAST-MODIFIED:20260410T140354Z
UID:47124-1778284800-1778371199@adefo.com
SUMMARY:3ª Etapa camino de Santiago: Uncastillo - Sos del Rey Católico
DESCRIPTION:
URL:https://adefo.com/agenda/3a-etapa-camino-de-santiago-uncastillo-sos-del-rey-catolico/
LOCATION:Zaragoza
CATEGORIES:DE LA A A LA U difusión cultural Cinco Villas
ATTACH;FMTTYPE=image/jpeg:https://adefo.com/wp-content/uploads/2026/04/WhatsApp-Image-2026-04-08-at-08.39.17.jpeg
END:VEVENT
BEGIN:VEVENT
DTSTART;TZID=UTC:20260509T090000
DTEND;TZID=UTC:20260509T090000
DTSTAMP:20260424T135817
CREATED:20260422T083702Z
LAST-MODIFIED:20260422T083702Z
UID:47220-1778317200-1778317200@adefo.com
SUMMARY:Andada popular en Farasdués
DESCRIPTION:
URL:https://adefo.com/agenda/andada-popular-en-farasdues/
LOCATION:Zaragoza
CATEGORIES:DE LA A A LA U difusión cultural Cinco Villas
ATTACH;FMTTYPE=image/jpeg:https://adefo.com/wp-content/uploads/2026/04/Farasdues.jpg
END:VEVENT
BEGIN:VEVENT
DTSTART;TZID=UTC:20260516T090000
DTEND;TZID=UTC:20260516T090000
DTSTAMP:20260424T135817
CREATED:20260410T130600Z
LAST-MODIFIED:20260410T130600Z
UID:47096-1778922000-1778922000@adefo.com
SUMMARY:Senderismo por las Cinco Villas
DESCRIPTION:
URL:https://adefo.com/agenda/senderismo-por-las-cinco-villas/
LOCATION:Zaragoza
CATEGORIES:DE LA A A LA U difusión cultural Cinco Villas
ATTACH;FMTTYPE=image/jpeg:https://adefo.com/wp-content/uploads/2026/04/658151920_1705136747585842_772798366153472239.jpg
END:VEVENT
BEGIN:VEVENT
DTSTART;TZID=UTC:20260516T090000
DTEND;TZID=UTC:20260516T090000
DTSTAMP:20260424T135817
CREATED:20260422T081959Z
LAST-MODIFIED:20260422T081959Z
UID:47208-1778922000-1778922000@adefo.com
SUMMARY:Ruta senderista en Fuencalderas
DESCRIPTION:
URL:https://adefo.com/agenda/ruta-senderista-en-fuencalderas/
LOCATION:Zaragoza
CATEGORIES:DE LA A A LA U difusión cultural Cinco Villas
ATTACH;FMTTYPE=image/jpeg:https://adefo.com/wp-content/uploads/2026/04/671216497_1720031362763047_77334505790992439.jpg
END:VEVENT
END:VCALENDAR