BEGIN:VCALENDAR
VERSION:2.0
PRODID:-//ADEFO - ECPv6.7.0//NONSGML v1.0//EN
CALSCALE:GREGORIAN
METHOD:PUBLISH
X-ORIGINAL-URL:https://adefo.com
X-WR-CALDESC:Eventos para ADEFO
REFRESH-INTERVAL;VALUE=DURATION:PT1H
X-Robots-Tag:noindex
X-PUBLISHED-TTL:PT1H
BEGIN:VTIMEZONE
TZID:UTC
BEGIN:STANDARD
TZOFFSETFROM:+0000
TZOFFSETTO:+0000
TZNAME:UTC
DTSTART:20210101T000000
END:STANDARD
END:VTIMEZONE
BEGIN:VEVENT
DTSTART;TZID=UTC:20210602T153000
DTEND;TZID=UTC:20210602T170000
DTSTAMP:20260421T054140
CREATED:20210524T063618Z
LAST-MODIFIED:20210524T063919Z
UID:28224-1622647800-1622653200@adefo.com
SUMMARY:CAFÉ CON IDEA 2 DE JUNIO: "EL TURISMO QUE VIENE. IDEAS PARA ADAPTAR TU NEGOCIO A LAS NUEVAS TENDENCIAS DEL TURISTA"
DESCRIPTION:El próximo 2 de Junio\, de 15\,30 h. a 17\,00 h.  tendrá lugar nuestro habitual Café con Idea\, en formato online \nEn esta ocasión hablaremos de turismo de la mano de dos grandes profesionales\, que además conocen bien las Cinco Villas ya que han colaborado en la elaboración del Plan de Sostenibilidad turística en destino para las Cinco Villas: Ana Hernández y Fran Vicente. \nCon ellos hablaremos de tendencias de turismo y oportunidades detectadas en las Cinco Villas en línea con ellas y cómo transformarlas en ideas para mejorar la afluencia y satisfacción de los turistas en los establecimientos de nuestra comarca. \nAna Hernández cuenta con más de 25 años de experiencia en proyectos ligados al desarrollo rural y turístico\, de los que es una firme convencida. Su especialidad es generar oportunidades de mejora para las empresas mediante procesos de cambio con riesgos controlados\, definiendo estrategias personalizadas de innovación y crecimiento y poniéndolos en marcha mediante equipos formados en adaptabilidad al cambio. \nFran Vicente es consultor en Modelo de negocio\, Transformación y crecimiento empresarial\, Gestión cultural y Dinamización de Turismo\, un historiador que se ha reinventado profesionalmente en un sector muy distinto.  Sus dos pilares son aprendizaje y mejora constante.  Ha trabajado dos años en Nicaragua y Colombia ayudando a poner en marcha 21 iniciativas empresariales y es responsable del Equipo de Modelo de Negocio de La Colaboradora en Zaragoza Activa. \nEsta actividad\, que se desarrolla en colaboración entre ADEFO Cinco Villas y la Comarca de Cinco Villas incluye\, además del taller colectivo habitual\, 1 hora de asesoría individual gratuita (plazas limitadas) en la que los asistentes contarán con la ayuda de Fran Vicente para adecuar lo aprendido a su situación personal. \nInscripciones cumplimentando este formulario: https://forms.gle/jz46W2hjg4wadCk76
URL:https://adefo.com/agenda/cafe-con-idea-2-de-junio-el-turismo-que-viene-ideas-para-adaptar-tu-negocio-a-las-nuevas-tendencias-del-turista/
ATTACH;FMTTYPE=image/jpeg:https://adefo.com/wp-content/uploads/2021/05/Café-con-idea-El-turismo-que-viene-cartel.jpeg
END:VEVENT
BEGIN:VEVENT
DTSTART;TZID=UTC:20241128T180000
DTEND;TZID=UTC:20241128T180000
DTSTAMP:20260421T054140
CREATED:20241126T122609Z
LAST-MODIFIED:20241126T123416Z
UID:42611-1732816800-1732816800@adefo.com
SUMMARY:Taller: "Equipos imparables: Cómo inspirar y motivar al talento"\, en Ejea de los Caballeros
DESCRIPTION:
URL:https://adefo.com/agenda/taller-equipos-imparables-como-inspirar-y-motivar-al-talento-en-ejea-de-los-caballeros/
LOCATION:Adefo 5 Villas\, Calle Cervantes\, 9\, Ejea de los caballeros\, Zaragoza\, 50600\, España
CATEGORIES:DE LA A A LA U difusión cultural Cinco Villas
ATTACH;FMTTYPE=image/png:https://adefo.com/wp-content/uploads/2024/11/CAFE-CON-IDEA-7.png
END:VEVENT
BEGIN:VEVENT
DTSTART;TZID=UTC:20241204T153000
DTEND;TZID=UTC:20241204T153000
DTSTAMP:20260421T054140
CREATED:20241126T131909Z
LAST-MODIFIED:20241126T131909Z
UID:42650-1733326200-1733326200@adefo.com
SUMMARY:Café con idea: Financiación para el crecimiento de tu negocio\, on line
DESCRIPTION:
URL:https://adefo.com/agenda/cafe-con-idea-financiacion-para-el-crecimiento-de-tu-negocio-on-line/
CATEGORIES:DE LA A A LA U difusión cultural Cinco Villas
ATTACH;FMTTYPE=image/png:https://adefo.com/wp-content/uploads/2024/11/CAFE-CON-IDEA-8.png
END:VEVENT
BEGIN:VEVENT
DTSTART;TZID=UTC:20250306T153000
DTEND;TZID=UTC:20250306T153000
DTSTAMP:20260421T054140
CREATED:20250305T114454Z
LAST-MODIFIED:20250305T114454Z
UID:43541-1741275000-1741275000@adefo.com
SUMMARY:Café con Idea: "Exprime whatsapp"
DESCRIPTION:
URL:https://adefo.com/agenda/cafe-con-idea-exprime-whatsapp/
LOCATION:Formato online
CATEGORIES:DE LA A A LA U difusión cultural Cinco Villas
ATTACH;FMTTYPE=image/png:https://adefo.com/wp-content/uploads/2025/02/Colorido-Huellas-de-Manos-Ninos-Cita-Educacion-Poster-1.png
END:VEVENT
BEGIN:VEVENT
DTSTART;TZID=UTC:20251001T153000
DTEND;TZID=UTC:20251001T173000
DTSTAMP:20260421T054140
CREATED:20250923T130236Z
LAST-MODIFIED:20250923T130236Z
UID:45349-1759332600-1759339800@adefo.com
SUMMARY:Café con idea: Atracción y selección de talento\, en Ejea de los Caballeros
DESCRIPTION:
URL:https://adefo.com/agenda/cafe-con-idea-atraccion-y-seleccion-de-talento-en-ejea-de-los-caballeros/
CATEGORIES:DE LA A A LA U difusión cultural Cinco Villas
ATTACH;FMTTYPE=image/png:https://adefo.com/wp-content/uploads/2025/09/cafeconidea.png
END:VEVENT
BEGIN:VEVENT
DTSTART;TZID=UTC:20251025T170000
DTEND;TZID=UTC:20251025T210000
DTSTAMP:20260421T054140
CREATED:20251014T135534Z
LAST-MODIFIED:20251014T135608Z
UID:45479-1761411600-1761426000@adefo.com
SUMMARY:Festival rural Mercados en Ruta\, en Ejea de los Caballeros
DESCRIPTION:
URL:https://adefo.com/agenda/festival-rural-mercados-en-ruta-en-ejea-de-los-caballeros/
LOCATION:Casino de Ejea
CATEGORIES:DE LA A A LA U difusión cultural Cinco Villas
ATTACH;FMTTYPE=image/jpeg:https://adefo.com/wp-content/uploads/2025/10/WhatsApp-Image-2025-10-14-at-15.10.45.jpeg
END:VEVENT
BEGIN:VEVENT
DTSTART;TZID=UTC:20251203T153000
DTEND;TZID=UTC:20251203T173000
DTSTAMP:20260421T054140
CREATED:20251128T110311Z
LAST-MODIFIED:20251128T110311Z
UID:46078-1764775800-1764783000@adefo.com
SUMMARY:Café con idea: Taller resolución de conflictos
DESCRIPTION:
URL:https://adefo.com/agenda/cafe-con-idea-taller-resolucion-de-conflictos/
LOCATION:On line
CATEGORIES:DE LA A A LA U difusión cultural Cinco Villas
ATTACH;FMTTYPE=image/png:https://adefo.com/wp-content/uploads/2025/11/TANIA-II.png
END:VEVENT
BEGIN:VEVENT
DTSTART;VALUE=DATE:20260301
DTEND;VALUE=DATE:20260330
DTSTAMP:20260421T054140
CREATED:20260225T093633Z
LAST-MODIFIED:20260225T093633Z
UID:46812-1772323200-1774828799@adefo.com
SUMMARY:Tardes de cine en Tauste
DESCRIPTION:
URL:https://adefo.com/agenda/tardes-de-cine-en-tauste-13/
LOCATION:Casa de cultura
CATEGORIES:DE LA A A LA U difusión cultural Cinco Villas
ATTACH;FMTTYPE=image/jpeg:https://adefo.com/wp-content/uploads/2026/02/WhatsApp-Image-2026-02-24-at-15.41.55.jpeg
END:VEVENT
BEGIN:VEVENT
DTSTART;VALUE=DATE:20260306
DTEND;VALUE=DATE:20260523
DTSTAMP:20260421T054140
CREATED:20260318T092637Z
LAST-MODIFIED:20260318T092700Z
UID:46863-1772755200-1779494399@adefo.com
SUMMARY:Escuela municipal de familias en Ejea de los Caballeros
DESCRIPTION:
URL:https://adefo.com/agenda/escuela-municipal-de-familias-en-ejea-de-los-caballeros-2/
CATEGORIES:DE LA A A LA U difusión cultural Cinco Villas
ATTACH;FMTTYPE=image/jpeg:https://adefo.com/wp-content/uploads/2026/03/WhatsApp-Image-2026-03-02-at-09.20.01.jpeg
END:VEVENT
BEGIN:VEVENT
DTSTART;TZID=UTC:20260320T130000
DTEND;TZID=UTC:20260328T130000
DTSTAMP:20260421T054140
CREATED:20260325T080631Z
LAST-MODIFIED:20260325T080631Z
UID:46938-1774011600-1774702800@adefo.com
SUMMARY:Descubre el casco antiguo de Ejea y sus iglesias románicas
DESCRIPTION:
URL:https://adefo.com/agenda/descubre-el-casco-antiguo-de-ejea-y-sus-iglesias-romanicas/
CATEGORIES:DE LA A A LA U difusión cultural Cinco Villas
ATTACH;FMTTYPE=image/jpeg:https://adefo.com/wp-content/uploads/2026/03/651267907_1485466820038649_89659711700538449.jpg
END:VEVENT
BEGIN:VEVENT
DTSTART;TZID=UTC:20260320T180000
DTEND;TZID=UTC:20260320T180000
DTSTAMP:20260421T054140
CREATED:20260318T093510Z
LAST-MODIFIED:20260318T093510Z
UID:46872-1774029600-1774029600@adefo.com
SUMMARY:Escuela municipal de familias: "De tiktok a la IA: Guía de supervivencia"\, en Ejea de los Caballeros
DESCRIPTION:
URL:https://adefo.com/agenda/escuela-municipal-de-familias-de-tiktok-a-la-ia-guia-de-supervivencia-en-ejea-de-los-caballeros/
LOCATION:Museo Aquagraria\, C/ Manuel Lorenzo Pardo\, s/n\, Ejea de los Caballeros\, 50600\, Spain
CATEGORIES:DE LA A A LA U difusión cultural Cinco Villas
ATTACH;FMTTYPE=image/jpeg:https://adefo.com/wp-content/uploads/2026/03/WhatsApp-Image-2026-03-18-at-09.40.27.jpeg
END:VEVENT
BEGIN:VEVENT
DTSTART;TZID=UTC:20260320T180000
DTEND;TZID=UTC:20260320T180000
DTSTAMP:20260421T054140
CREATED:20260318T105247Z
LAST-MODIFIED:20260318T105247Z
UID:46887-1774029600-1774029600@adefo.com
SUMMARY:Taller de risoterapia en Tauste
DESCRIPTION:
URL:https://adefo.com/agenda/taller-de-risoterapia-en-tauste/
LOCATION:Casa de cultura
CATEGORIES:DE LA A A LA U difusión cultural Cinco Villas
ATTACH;FMTTYPE=image/jpeg:https://adefo.com/wp-content/uploads/2026/03/WhatsApp-Image-2026-03-05-at-12.08.13.jpeg
END:VEVENT
BEGIN:VEVENT
DTSTART;TZID=UTC:20260320T200000
DTEND;TZID=UTC:20260320T200000
DTSTAMP:20260421T054140
CREATED:20260318T091836Z
LAST-MODIFIED:20260318T091836Z
UID:46857-1774036800-1774036800@adefo.com
SUMMARY:Presentación del libro "La batalla de Sibirana"\, en Ejea de los Caballeros
DESCRIPTION:
URL:https://adefo.com/agenda/presentacion-del-libro-la-batalla-de-sibirana-en-ejea-de-los-caballeros/
LOCATION:Centro Cívico
CATEGORIES:DE LA A A LA U difusión cultural Cinco Villas
ATTACH;FMTTYPE=image/jpeg:https://adefo.com/wp-content/uploads/2026/03/651269801_26324213527267165_7316270104354735.jpg
END:VEVENT
BEGIN:VEVENT
DTSTART;VALUE=DATE:20260321
DTEND;VALUE=DATE:20260413
DTSTAMP:20260421T054140
CREATED:20260204T085738Z
LAST-MODIFIED:20260204T085738Z
UID:46676-1774051200-1776038399@adefo.com
SUMMARY:Curso de monitor de ocio y tiempo libre en Ejea de los Caballeros
DESCRIPTION:
URL:https://adefo.com/agenda/curso-de-monitor-de-ocio-y-tiempo-libre-en-ejea-de-los-caballeros-2/
LOCATION:Club Eras Altas
CATEGORIES:DE LA A A LA U difusión cultural Cinco Villas
ATTACH;FMTTYPE=image/jpeg:https://adefo.com/wp-content/uploads/2026/02/Club-Eras-Altas.jpg
END:VEVENT
BEGIN:VEVENT
DTSTART;VALUE=DATE:20260321
DTEND;VALUE=DATE:20260322
DTSTAMP:20260421T054140
CREATED:20260313T095712Z
LAST-MODIFIED:20260318T090837Z
UID:46840-1774051200-1774137599@adefo.com
SUMMARY:Rekintos 2026 en El Bayo
DESCRIPTION:
URL:https://adefo.com/agenda/rekintos-2026-en-el-bayo/
CATEGORIES:DE LA A A LA U difusión cultural Cinco Villas
ATTACH;FMTTYPE=image/jpeg:https://adefo.com/wp-content/uploads/2026/03/648659979_17921606208254087_1709509799772232.jpg
END:VEVENT
BEGIN:VEVENT
DTSTART;VALUE=DATE:20260321
DTEND;VALUE=DATE:20260614
DTSTAMP:20260421T054140
CREATED:20260318T120058Z
LAST-MODIFIED:20260318T120058Z
UID:46914-1774051200-1781395199@adefo.com
SUMMARY:Celebrando la primavera con la cultura en Ejea de los Caballeros
DESCRIPTION:
URL:https://adefo.com/agenda/celebrando-la-primavera-con-la-cultura-en-ejea-de-los-caballeros/
CATEGORIES:DE LA A A LA U difusión cultural Cinco Villas
ATTACH;FMTTYPE=image/jpeg:https://adefo.com/wp-content/uploads/2026/03/WhatsApp-Image-2026-03-18-at-12.52.09.jpeg
END:VEVENT
BEGIN:VEVENT
DTSTART;VALUE=DATE:20260321
DTEND;VALUE=DATE:20260531
DTSTAMP:20260421T054140
CREATED:20260408T081253Z
LAST-MODIFIED:20260408T081253Z
UID:47042-1774051200-1780185599@adefo.com
SUMMARY:Permacultura en las Cinco Villas
DESCRIPTION:
URL:https://adefo.com/agenda/permacultura-en-las-cinco-villas/
CATEGORIES:DE LA A A LA U difusión cultural Cinco Villas
ATTACH;FMTTYPE=image/jpeg:https://adefo.com/wp-content/uploads/2026/04/653105884_122259419930060620_6767271668137627.jpg
END:VEVENT
BEGIN:VEVENT
DTSTART;TZID=UTC:20260321T100000
DTEND;TZID=UTC:20260321T140000
DTSTAMP:20260421T054140
CREATED:20260318T093637Z
LAST-MODIFIED:20260318T093637Z
UID:46875-1774087200-1774101600@adefo.com
SUMMARY:Día del árbol en Longás
DESCRIPTION:
URL:https://adefo.com/agenda/dia-del-arbol-en-longas/
CATEGORIES:DE LA A A LA U difusión cultural Cinco Villas
ATTACH;FMTTYPE=image/jpeg:https://adefo.com/wp-content/uploads/2026/03/WhatsApp-Image-2026-03-18-at-09.49.13-1.jpeg
END:VEVENT
BEGIN:VEVENT
DTSTART;TZID=UTC:20260321T100000
DTEND;TZID=UTC:20260321T140000
DTSTAMP:20260421T054140
CREATED:20260318T095114Z
LAST-MODIFIED:20260318T095129Z
UID:46881-1774087200-1774101600@adefo.com
SUMMARY:Jornada de permacultura en Layana
DESCRIPTION:
URL:https://adefo.com/agenda/jornada-de-permacultura-en-layana/
LOCATION:Centro cultural polivalente
CATEGORIES:DE LA A A LA U difusión cultural Cinco Villas
ATTACH;FMTTYPE=image/jpeg:https://adefo.com/wp-content/uploads/2026/03/WhatsApp-Image-2026-03-16-at-14.07.17.jpeg
END:VEVENT
BEGIN:VEVENT
DTSTART;TZID=UTC:20260321T110000
DTEND;TZID=UTC:20260321T190000
DTSTAMP:20260421T054140
CREATED:20260318T115106Z
LAST-MODIFIED:20260318T115106Z
UID:46902-1774090800-1774119600@adefo.com
SUMMARY:Mercado artesanal y alimentario en Las Pedrosas
DESCRIPTION:
URL:https://adefo.com/agenda/mercado-artesanal-y-alimentario-en-las-pedrosas/
CATEGORIES:DE LA A A LA U difusión cultural Cinco Villas
ATTACH;FMTTYPE=image/jpeg:https://adefo.com/wp-content/uploads/2026/03/649267773_1688012669298250_5114959724166916467_n.jpg
END:VEVENT
BEGIN:VEVENT
DTSTART;TZID=UTC:20260321T200000
DTEND;TZID=UTC:20260321T200000
DTSTAMP:20260421T054140
CREATED:20260318T120233Z
LAST-MODIFIED:20260318T120233Z
UID:46917-1774123200-1774123200@adefo.com
SUMMARY:Monólogo "tiempo al tiempo"\, en Ejea de los Caballeros
DESCRIPTION:
URL:https://adefo.com/agenda/monologo-tiempo-al-tiempo-en-ejea-de-los-caballeros/
LOCATION:Teatro de la Villa\, Plaza de la Oliva\, Ejea de los Caballeros\, Zaragoza\, 50600\, Spain
CATEGORIES:DE LA A A LA U difusión cultural Cinco Villas
ATTACH;FMTTYPE=image/jpeg:https://adefo.com/wp-content/uploads/2026/03/WhatsApp-Image-2026-03-18-at-12.52.55.jpeg
END:VEVENT
BEGIN:VEVENT
DTSTART;VALUE=DATE:20260322
DTEND;VALUE=DATE:20260323
DTSTAMP:20260421T054140
CREATED:20260204T090545Z
LAST-MODIFIED:20260204T090545Z
UID:46688-1774137600-1774223999@adefo.com
SUMMARY:Campeonato de tiro en Sos del Rey Católico
DESCRIPTION:
URL:https://adefo.com/agenda/campeonato-de-tiro-en-sos-del-rey-catolico-11/
LOCATION:Deportivo Calderón de Sos
CATEGORIES:DE LA A A LA U difusión cultural Cinco Villas
ATTACH;FMTTYPE=image/jpeg:https://adefo.com/wp-content/uploads/2026/02/WhatsApp-Image-2026-01-21-at-22.22.55.jpeg
END:VEVENT
BEGIN:VEVENT
DTSTART;TZID=UTC:20260322T100000
DTEND;TZID=UTC:20260322T140000
DTSTAMP:20260421T054140
CREATED:20260318T095252Z
LAST-MODIFIED:20260318T095252Z
UID:46884-1774173600-1774188000@adefo.com
SUMMARY:Jornada de permacultura en El Frago
DESCRIPTION:
URL:https://adefo.com/agenda/jornada-de-permacultura-en-el-frago/
LOCATION:Salón de plenos del Ayuntamiento
CATEGORIES:DE LA A A LA U difusión cultural Cinco Villas
ATTACH;FMTTYPE=image/jpeg:https://adefo.com/wp-content/uploads/2026/03/WhatsApp-Image-2026-03-16-at-14.07.17-1.jpeg
END:VEVENT
BEGIN:VEVENT
DTSTART;TZID=UTC:20260322T103000
DTEND;TZID=UTC:20260322T103000
DTSTAMP:20260421T054140
CREATED:20260318T091356Z
LAST-MODIFIED:20260318T091356Z
UID:46854-1774175400-1774175400@adefo.com
SUMMARY:Visita guiada a Los Bañales
DESCRIPTION:
URL:https://adefo.com/agenda/visita-guiada-a-los-banales/
CATEGORIES:DE LA A A LA U difusión cultural Cinco Villas
ATTACH;FMTTYPE=image/jpeg:https://adefo.com/wp-content/uploads/2026/03/649663435_1434114568504669_69039113650643453.jpg
END:VEVENT
BEGIN:VEVENT
DTSTART;TZID=UTC:20260323T170000
DTEND;TZID=UTC:20260323T170000
DTSTAMP:20260421T054140
CREATED:20260318T105503Z
LAST-MODIFIED:20260318T105503Z
UID:46890-1774285200-1774285200@adefo.com
SUMMARY:Taller literario "Santa Teresa de Ahumada\, una mujer en lucha por su libertad"\, en Tauste
DESCRIPTION:
URL:https://adefo.com/agenda/taller-literario-santa-teresa-de-ahumada-una-mujer-en-lucha-por-su-libertad-en-tauste/
LOCATION:Casa de cultura
CATEGORIES:DE LA A A LA U difusión cultural Cinco Villas
ATTACH;FMTTYPE=image/jpeg:https://adefo.com/wp-content/uploads/2026/03/WhatsApp-Image-2026-03-12-at-13.28.04.jpeg
END:VEVENT
BEGIN:VEVENT
DTSTART;TZID=UTC:20260326T193000
DTEND;TZID=UTC:20260326T193000
DTSTAMP:20260421T054140
CREATED:20260325T081913Z
LAST-MODIFIED:20260325T081913Z
UID:46953-1774553400-1774553400@adefo.com
SUMMARY:Presentación de la novela "La huida de Ulises" en Tauste
DESCRIPTION:
URL:https://adefo.com/agenda/presentacion-de-la-novela-la-huida-de-ulises-en-tauste/
LOCATION:Casa de cultura
CATEGORIES:DE LA A A LA U difusión cultural Cinco Villas
ATTACH;FMTTYPE=image/jpeg:https://adefo.com/wp-content/uploads/2026/03/656605025_2777793309244555_79254607867813991.jpg
END:VEVENT
BEGIN:VEVENT
DTSTART;TZID=UTC:20260327T193000
DTEND;TZID=UTC:20260327T193000
DTSTAMP:20260421T054140
CREATED:20260327T134052Z
LAST-MODIFIED:20260327T134103Z
UID:46959-1774639800-1774639800@adefo.com
SUMMARY:Presentación del libro "Bosque desnudo"\, en Biota
DESCRIPTION:
URL:https://adefo.com/agenda/presentacion-del-libro-bosque-desnudo-en-biota/
LOCATION:Palacio de Biota
CATEGORIES:DE LA A A LA U difusión cultural Cinco Villas
ATTACH;FMTTYPE=image/jpeg:https://adefo.com/wp-content/uploads/2026/03/WhatsApp-Image-2026-03-26-at-14.12.20.jpeg
END:VEVENT
BEGIN:VEVENT
DTSTART;VALUE=DATE:20260328
DTEND;VALUE=DATE:20260329
DTSTAMP:20260421T054140
CREATED:20260219T145712Z
LAST-MODIFIED:20260219T145712Z
UID:46757-1774656000-1774742399@adefo.com
SUMMARY:V Marcha senderista Villa de Biel
DESCRIPTION:
URL:https://adefo.com/agenda/v-marcha-senderista-villa-de-biel/
CATEGORIES:DE LA A A LA U difusión cultural Cinco Villas
ATTACH;FMTTYPE=image/jpeg:https://adefo.com/wp-content/uploads/2026/02/629816492_947864941250476_1620550259798567.jpg
END:VEVENT
BEGIN:VEVENT
DTSTART;VALUE=DATE:20260328
DTEND;VALUE=DATE:20260329
DTSTAMP:20260421T054140
CREATED:20260318T115645Z
LAST-MODIFIED:20260408T085306Z
UID:46908-1774656000-1774742399@adefo.com
SUMMARY:Clases de baile en Sádaba
DESCRIPTION:
URL:https://adefo.com/agenda/clases-de-baile-en-sadaba/
CATEGORIES:DE LA A A LA U difusión cultural Cinco Villas
ATTACH;FMTTYPE=image/jpeg:https://adefo.com/wp-content/uploads/2026/03/653374557_122206879406352863_775816759008382.jpg
END:VEVENT
BEGIN:VEVENT
DTSTART;VALUE=DATE:20260328
DTEND;VALUE=DATE:20260329
DTSTAMP:20260421T054140
CREATED:20260318T115831Z
LAST-MODIFIED:20260318T115831Z
UID:46911-1774656000-1774742399@adefo.com
SUMMARY:Clases de ajedrez en Sádaba
DESCRIPTION:
URL:https://adefo.com/agenda/clases-de-ajedrez-en-sadaba/
CATEGORIES:DE LA A A LA U difusión cultural Cinco Villas
ATTACH;FMTTYPE=image/jpeg:https://adefo.com/wp-content/uploads/2026/03/654249015_122206879766352863_507612379279198.jpg
END:VEVENT
END:VCALENDAR