BEGIN:VCALENDAR
VERSION:2.0
PRODID:-//ADEFO - ECPv6.7.0//NONSGML v1.0//EN
CALSCALE:GREGORIAN
METHOD:PUBLISH
X-WR-CALNAME:ADEFO
X-ORIGINAL-URL:https://adefo.com
X-WR-CALDESC:Eventos para ADEFO
REFRESH-INTERVAL;VALUE=DURATION:PT1H
X-Robots-Tag:noindex
X-PUBLISHED-TTL:PT1H
BEGIN:VTIMEZONE
TZID:UTC
BEGIN:STANDARD
TZOFFSETFROM:+0000
TZOFFSETTO:+0000
TZNAME:UTC
DTSTART:20260101T000000
END:STANDARD
END:VTIMEZONE
BEGIN:VEVENT
DTSTART;VALUE=DATE:20260306
DTEND;VALUE=DATE:20260523
DTSTAMP:20260424T153857
CREATED:20260318T092637Z
LAST-MODIFIED:20260318T092700Z
UID:46863-1772755200-1779494399@adefo.com
SUMMARY:Escuela municipal de familias en Ejea de los Caballeros
DESCRIPTION:
URL:https://adefo.com/agenda/escuela-municipal-de-familias-en-ejea-de-los-caballeros-2/
LOCATION:Zaragoza
CATEGORIES:DE LA A A LA U difusión cultural Cinco Villas
ATTACH;FMTTYPE=image/jpeg:https://adefo.com/wp-content/uploads/2026/03/WhatsApp-Image-2026-03-02-at-09.20.01.jpeg
END:VEVENT
BEGIN:VEVENT
DTSTART;VALUE=DATE:20260321
DTEND;VALUE=DATE:20260413
DTSTAMP:20260424T153857
CREATED:20260204T085738Z
LAST-MODIFIED:20260204T085738Z
UID:46676-1774051200-1776038399@adefo.com
SUMMARY:Curso de monitor de ocio y tiempo libre en Ejea de los Caballeros
DESCRIPTION:
URL:https://adefo.com/agenda/curso-de-monitor-de-ocio-y-tiempo-libre-en-ejea-de-los-caballeros-2/
LOCATION:Club Eras Altas
CATEGORIES:DE LA A A LA U difusión cultural Cinco Villas
ATTACH;FMTTYPE=image/jpeg:https://adefo.com/wp-content/uploads/2026/02/Club-Eras-Altas.jpg
END:VEVENT
BEGIN:VEVENT
DTSTART;VALUE=DATE:20260321
DTEND;VALUE=DATE:20260614
DTSTAMP:20260424T153857
CREATED:20260318T120058Z
LAST-MODIFIED:20260318T120058Z
UID:46914-1774051200-1781395199@adefo.com
SUMMARY:Celebrando la primavera con la cultura en Ejea de los Caballeros
DESCRIPTION:
URL:https://adefo.com/agenda/celebrando-la-primavera-con-la-cultura-en-ejea-de-los-caballeros/
LOCATION:Zaragoza
CATEGORIES:DE LA A A LA U difusión cultural Cinco Villas
ATTACH;FMTTYPE=image/jpeg:https://adefo.com/wp-content/uploads/2026/03/WhatsApp-Image-2026-03-18-at-12.52.09.jpeg
END:VEVENT
BEGIN:VEVENT
DTSTART;VALUE=DATE:20260321
DTEND;VALUE=DATE:20260531
DTSTAMP:20260424T153857
CREATED:20260408T081253Z
LAST-MODIFIED:20260408T081253Z
UID:47042-1774051200-1780185599@adefo.com
SUMMARY:Permacultura en las Cinco Villas
DESCRIPTION:
URL:https://adefo.com/agenda/permacultura-en-las-cinco-villas/
LOCATION:Zaragoza
CATEGORIES:DE LA A A LA U difusión cultural Cinco Villas
ATTACH;FMTTYPE=image/jpeg:https://adefo.com/wp-content/uploads/2026/04/653105884_122259419930060620_6767271668137627.jpg
END:VEVENT
BEGIN:VEVENT
DTSTART;VALUE=DATE:20260328
DTEND;VALUE=DATE:20260406
DTSTAMP:20260424T153857
CREATED:20260325T080942Z
LAST-MODIFIED:20260325T080942Z
UID:46944-1774656000-1775433599@adefo.com
SUMMARY:Semana Santa 2026 en Biel
DESCRIPTION:
URL:https://adefo.com/agenda/semana-santa-2026-en-biel/
LOCATION:Zaragoza
CATEGORIES:DE LA A A LA U difusión cultural Cinco Villas
ATTACH;FMTTYPE=image/jpeg:https://adefo.com/wp-content/uploads/2026/03/657172439_2743804109332924_23797718597273814.jpg
END:VEVENT
BEGIN:VEVENT
DTSTART;VALUE=DATE:20260329
DTEND;VALUE=DATE:20260404
DTSTAMP:20260424T153857
CREATED:20260401T084050Z
LAST-MODIFIED:20260401T084050Z
UID:46975-1774742400-1775260799@adefo.com
SUMMARY:Semana Santa en Sos del Rey Católico
DESCRIPTION:Screenshot
URL:https://adefo.com/agenda/semana-santa-en-sos-del-rey-catolico/
LOCATION:Zaragoza
CATEGORIES:DE LA A A LA U difusión cultural Cinco Villas
ATTACH;FMTTYPE=image/jpeg:https://adefo.com/wp-content/uploads/2026/04/Semana-Santa-en-Sos.jpg
END:VEVENT
BEGIN:VEVENT
DTSTART;VALUE=DATE:20260401
DTEND;VALUE=DATE:20260405
DTSTAMP:20260424T153857
CREATED:20260204T084308Z
LAST-MODIFIED:20260219T144851Z
UID:46661-1775001600-1775347199@adefo.com
SUMMARY:XXX Maratón de futbol sala "Villa de Ejea"
DESCRIPTION:
URL:https://adefo.com/agenda/xxx-maraton-de-futbol-sala-villa-de-ejea/
LOCATION:Zaragoza
CATEGORIES:DE LA A A LA U difusión cultural Cinco Villas
END:VEVENT
BEGIN:VEVENT
DTSTART;VALUE=DATE:20260402
DTEND;VALUE=DATE:20260404
DTSTAMP:20260424T153857
CREATED:20260401T084211Z
LAST-MODIFIED:20260401T084211Z
UID:46978-1775088000-1775260799@adefo.com
SUMMARY:Semana Santa 2026 en Biel
DESCRIPTION:
URL:https://adefo.com/agenda/semana-santa-2026-en-biel-2/
LOCATION:Zaragoza
CATEGORIES:DE LA A A LA U difusión cultural Cinco Villas
ATTACH;FMTTYPE=image/jpeg:https://adefo.com/wp-content/uploads/2026/04/2.jpg
END:VEVENT
BEGIN:VEVENT
DTSTART;TZID=UTC:20260403T120000
DTEND;TZID=UTC:20260404T140000
DTSTAMP:20260424T153857
CREATED:20260401T084913Z
LAST-MODIFIED:20260401T084913Z
UID:46990-1775217600-1775311200@adefo.com
SUMMARY:Venta solidaria en Uncastillo
DESCRIPTION:
URL:https://adefo.com/agenda/venta-solidaria-en-uncastillo/
LOCATION:Plaza del Ordinario
CATEGORIES:DE LA A A LA U difusión cultural Cinco Villas
ATTACH;FMTTYPE=image/jpeg:https://adefo.com/wp-content/uploads/2026/04/Uncastillo.jpg
END:VEVENT
BEGIN:VEVENT
DTSTART;TZID=UTC:20260403T170000
DTEND;TZID=UTC:20260403T220000
DTSTAMP:20260424T153857
CREATED:20260401T084712Z
LAST-MODIFIED:20260401T084712Z
UID:46987-1775235600-1775253600@adefo.com
SUMMARY:Tardeo en Urriés
DESCRIPTION:
URL:https://adefo.com/agenda/tardeo-en-urries/
LOCATION:Zaragoza
CATEGORIES:DE LA A A LA U difusión cultural Cinco Villas
ATTACH;FMTTYPE=image/jpeg:https://adefo.com/wp-content/uploads/2026/04/658352284_930839563247643_19057892792080-1.jpg
END:VEVENT
BEGIN:VEVENT
DTSTART;VALUE=DATE:20260404
DTEND;VALUE=DATE:20260405
DTSTAMP:20260424T153857
CREATED:20260318T115507Z
LAST-MODIFIED:20260318T115507Z
UID:46905-1775260800-1775347199@adefo.com
SUMMARY:I Triatlón de ocio en Sádaba
DESCRIPTION:
URL:https://adefo.com/agenda/i-triatlon-de-ocio-en-sadaba/
LOCATION:Pabellón municipal\, Spain
CATEGORIES:DE LA A A LA U difusión cultural Cinco Villas
ATTACH;FMTTYPE=image/jpeg:https://adefo.com/wp-content/uploads/2026/03/650509323_10236660885599939_6941081167462719.jpg
END:VEVENT
BEGIN:VEVENT
DTSTART;VALUE=DATE:20260404
DTEND;VALUE=DATE:20260405
DTSTAMP:20260424T153857
CREATED:20260325T080813Z
LAST-MODIFIED:20260325T080813Z
UID:46941-1775260800-1775347199@adefo.com
SUMMARY:Fiesta de la cerveza en Uncastillo
DESCRIPTION:
URL:https://adefo.com/agenda/fiesta-de-la-cerveza-en-uncastillo/
LOCATION:Pabellón
CATEGORIES:DE LA A A LA U difusión cultural Cinco Villas
ATTACH;FMTTYPE=image/jpeg:https://adefo.com/wp-content/uploads/2026/03/Pabellon-Uncastillo.jpg
END:VEVENT
BEGIN:VEVENT
DTSTART;VALUE=DATE:20260404
DTEND;VALUE=DATE:20260405
DTSTAMP:20260424T153857
CREATED:20260401T084310Z
LAST-MODIFIED:20260401T084310Z
UID:46981-1775260800-1775347199@adefo.com
SUMMARY:Semana Santa 2026 en Biel
DESCRIPTION:
URL:https://adefo.com/agenda/semana-santa-2026-en-biel-3/
LOCATION:Zaragoza
CATEGORIES:DE LA A A LA U difusión cultural Cinco Villas
ATTACH;FMTTYPE=image/jpeg:https://adefo.com/wp-content/uploads/2026/04/3.jpg
END:VEVENT
BEGIN:VEVENT
DTSTART;TZID=UTC:20260404T103000
DTEND;TZID=UTC:20260406T103000
DTSTAMP:20260424T153857
CREATED:20260401T083723Z
LAST-MODIFIED:20260401T083723Z
UID:46972-1775298600-1775471400@adefo.com
SUMMARY:Visita guiada a Los Bañales
DESCRIPTION:
URL:https://adefo.com/agenda/visita-guiada-a-los-banales-2/
LOCATION:Zaragoza
CATEGORIES:DE LA A A LA U difusión cultural Cinco Villas
ATTACH;FMTTYPE=image/jpeg:https://adefo.com/wp-content/uploads/2026/04/656632575_1446037797312346_189832981662835096.jpg
END:VEVENT
BEGIN:VEVENT
DTSTART;VALUE=DATE:20260405
DTEND;VALUE=DATE:20260501
DTSTAMP:20260424T153857
CREATED:20260401T085127Z
LAST-MODIFIED:20260401T085127Z
UID:46994-1775347200-1777593599@adefo.com
SUMMARY:Tardes de cine en Tauste
DESCRIPTION:
URL:https://adefo.com/agenda/tardes-de-cine-en-tauste/
LOCATION:Casa de cultura
CATEGORIES:DE LA A A LA U difusión cultural Cinco Villas
ATTACH;FMTTYPE=image/jpeg:https://adefo.com/wp-content/uploads/2026/04/WhatsApp-Image-2026-03-30-at-10.28.38.jpeg
END:VEVENT
BEGIN:VEVENT
DTSTART;VALUE=DATE:20260407
DTEND;VALUE=DATE:20260408
DTSTAMP:20260424T153857
CREATED:20260401T085404Z
LAST-MODIFIED:20260401T085404Z
UID:46997-1775520000-1775606399@adefo.com
SUMMARY:Taller de modelado artístico en barro en Tauste
DESCRIPTION:
URL:https://adefo.com/agenda/taller-de-modelado-artistico-en-barro-en-tauste/
LOCATION:Casa de cultura
CATEGORIES:DE LA A A LA U difusión cultural Cinco Villas
ATTACH;FMTTYPE=image/jpeg:https://adefo.com/wp-content/uploads/2026/04/WhatsApp-Image-2026-03-30-at-12.41.39.jpeg
END:VEVENT
BEGIN:VEVENT
DTSTART;VALUE=DATE:20260408
DTEND;VALUE=DATE:20260411
DTSTAMP:20260424T153857
CREATED:20260408T074027Z
LAST-MODIFIED:20260408T074027Z
UID:47023-1775606400-1775865599@adefo.com
SUMMARY:Día internacional del pueblo gitano en Ejea de los Caballeros
DESCRIPTION:
URL:https://adefo.com/agenda/dia-internacional-del-pueblo-gitano-en-ejea-de-los-caballeros/
LOCATION:Zaragoza
CATEGORIES:DE LA A A LA U difusión cultural Cinco Villas
ATTACH;FMTTYPE=image/jpeg:https://adefo.com/wp-content/uploads/2026/04/WhatsApp-Image-2026-04-07-at-09.34.37.jpeg
END:VEVENT
BEGIN:VEVENT
DTSTART;VALUE=DATE:20260410
DTEND;VALUE=DATE:20260413
DTSTAMP:20260424T153857
CREATED:20260318T092038Z
LAST-MODIFIED:20260318T092439Z
UID:46860-1775779200-1776038399@adefo.com
SUMMARY:52 Certamen Coral en Ejea de los Caballeros
DESCRIPTION:
URL:https://adefo.com/agenda/52-certamen-coral-en-ejea-de-los-caballeros/
LOCATION:Zaragoza
CATEGORIES:DE LA A A LA U difusión cultural Cinco Villas
ATTACH;FMTTYPE=image/jpeg:https://adefo.com/wp-content/uploads/2026/03/651323842_1295726699283108_77321956144721494.jpg
END:VEVENT
BEGIN:VEVENT
DTSTART;VALUE=DATE:20260410
DTEND;VALUE=DATE:20260413
DTSTAMP:20260424T153857
CREATED:20260408T082337Z
LAST-MODIFIED:20260408T082912Z
UID:47057-1775779200-1776038399@adefo.com
SUMMARY:Fiestas del agua en Ejea de los Caballeros
DESCRIPTION:FIESTAS-DEL-AGUA-2026.pdf
URL:https://adefo.com/agenda/fiestas-del-agua-en-ejea-de-los-caballeros/
LOCATION:Zaragoza
CATEGORIES:DE LA A A LA U difusión cultural Cinco Villas
ATTACH;FMTTYPE=image/jpeg:https://adefo.com/wp-content/uploads/2026/04/FIESTAS-DEL-AGUA-2026_Pagina_1.jpg
END:VEVENT
BEGIN:VEVENT
DTSTART;TZID=UTC:20260410T200000
DTEND;TZID=UTC:20260410T200000
DTSTAMP:20260424T153857
CREATED:20260408T081628Z
LAST-MODIFIED:20260408T081628Z
UID:47048-1775851200-1775851200@adefo.com
SUMMARY:Concierto inaugural del certamen coral de Ejea de los Caballeros
DESCRIPTION:
URL:https://adefo.com/agenda/concierto-inaugural-del-certamen-coral-de-ejea-de-los-caballeros/
LOCATION:Polideportivo municipal
CATEGORIES:DE LA A A LA U difusión cultural Cinco Villas
ATTACH;FMTTYPE=image/jpeg:https://adefo.com/wp-content/uploads/2026/04/666461211_3531993293617663_673043284233763248.jpg
END:VEVENT
BEGIN:VEVENT
DTSTART;TZID=UTC:20260410T220000
DTEND;TZID=UTC:20260410T220000
DTSTAMP:20260424T153857
CREATED:20260408T074228Z
LAST-MODIFIED:20260408T075059Z
UID:47026-1775858400-1775858400@adefo.com
SUMMARY:Concierto "La rumba de tu vida"\, en Ejea de los Caballeros
DESCRIPTION:
URL:https://adefo.com/agenda/concierto-la-rumba-de-tu-vida-en-ejea-de-los-caballeros/
LOCATION:Plaza de la Villa
CATEGORIES:DE LA A A LA U difusión cultural Cinco Villas
ATTACH;FMTTYPE=image/jpeg:https://adefo.com/wp-content/uploads/2026/04/e279c969-c290-424a-b1b2-39a4e8e4e3e0.jpg
END:VEVENT
BEGIN:VEVENT
DTSTART;VALUE=DATE:20260411
DTEND;VALUE=DATE:20260412
DTSTAMP:20260424T153857
CREATED:20260318T092902Z
LAST-MODIFIED:20260318T092902Z
UID:46866-1775865600-1775951999@adefo.com
SUMMARY:1º Encuentro de jóvenes danzantes en Las Pedrosas
DESCRIPTION:
URL:https://adefo.com/agenda/1o-encuentro-de-jovenes-danzantes-en-las-pedrosas/
LOCATION:Plaza de Los Danzantes
CATEGORIES:DE LA A A LA U difusión cultural Cinco Villas
ATTACH;FMTTYPE=image/jpeg:https://adefo.com/wp-content/uploads/2026/03/WhatsApp-Image-2026-03-02-at-11.50.36.jpeg
END:VEVENT
BEGIN:VEVENT
DTSTART;TZID=UTC:20260411T090000
DTEND;TZID=UTC:20260411T090000
DTSTAMP:20260424T153857
CREATED:20260318T114832Z
LAST-MODIFIED:20260318T114832Z
UID:46898-1775898000-1775898000@adefo.com
SUMMARY:Senderismo en Cinco Villas
DESCRIPTION:
URL:https://adefo.com/agenda/senderismo-en-cinco-villas/
LOCATION:Bardena Negra
CATEGORIES:DE LA A A LA U difusión cultural Cinco Villas
ATTACH;FMTTYPE=image/jpeg:https://adefo.com/wp-content/uploads/2026/03/649171550_1690422675723916_89002617758131272.jpg
END:VEVENT
BEGIN:VEVENT
DTSTART;TZID=UTC:20260411T163000
DTEND;TZID=UTC:20260411T163000
DTSTAMP:20260424T153857
CREATED:20260410T074530Z
LAST-MODIFIED:20260410T081653Z
UID:47083-1775925000-1775925000@adefo.com
SUMMARY:IX Encuentro de labores en Pinsoro
DESCRIPTION:
URL:https://adefo.com/agenda/ix-encuentro-de-labores-en-pinsoro/
LOCATION:Polideportivo municipal
CATEGORIES:DE LA A A LA U difusión cultural Cinco Villas
ATTACH;FMTTYPE=image/jpeg:https://adefo.com/wp-content/uploads/2026/04/667662818_10233828081906481_4708677967767866.jpg
END:VEVENT
BEGIN:VEVENT
DTSTART;VALUE=DATE:20260412
DTEND;VALUE=DATE:20260621
DTSTAMP:20260424T153857
CREATED:20260401T084510Z
LAST-MODIFIED:20260401T084510Z
UID:46984-1775952000-1781999999@adefo.com
SUMMARY:Jornadas astronómicas sobre el eclipse solar en Las Cinco Villas
DESCRIPTION:
URL:https://adefo.com/agenda/jornadas-astronomicas-sobre-el-eclipse-solar-en-las-cinco-villas/
LOCATION:Zaragoza
CATEGORIES:DE LA A A LA U difusión cultural Cinco Villas
ATTACH;FMTTYPE=image/jpeg:https://adefo.com/wp-content/uploads/2026/04/656899144_1700743788025138_86420493585305.jpg
END:VEVENT
BEGIN:VEVENT
DTSTART;VALUE=DATE:20260412
DTEND;VALUE=DATE:20260413
DTSTAMP:20260424T153857
CREATED:20260408T081050Z
LAST-MODIFIED:20260408T081050Z
UID:47038-1775952000-1776038399@adefo.com
SUMMARY:Permacultura en Las Pedrosas
DESCRIPTION:
URL:https://adefo.com/agenda/permacultura-en-las-pedrosas/
LOCATION:Zaragoza
CATEGORIES:DE LA A A LA U difusión cultural Cinco Villas
ATTACH;FMTTYPE=image/jpeg:https://adefo.com/wp-content/uploads/2026/04/657277263_122261108438060620_6742545986890099.jpg
END:VEVENT
BEGIN:VEVENT
DTSTART;VALUE=DATE:20260413
DTEND;VALUE=DATE:20260522
DTSTAMP:20260424T153857
CREATED:20260415T081859Z
LAST-MODIFIED:20260422T110203Z
UID:47155-1776038400-1779407999@adefo.com
SUMMARY:Exposición "Los noventa al pie de la letra"\, en Ejea de los Caballeros
DESCRIPTION:
URL:https://adefo.com/agenda/exposicion-los-noventa-al-pie-de-la-letra-en-ejea-de-los-caballeros/
LOCATION:Sala de exposiciones de la Casa Parroquial de Ejea de los Caballeros
CATEGORIES:DE LA A A LA U difusión cultural Cinco Villas
ATTACH;FMTTYPE=image/jpeg:https://adefo.com/wp-content/uploads/2026/04/WhatsApp-Image-2026-04-13-at-13.31.47.jpeg
END:VEVENT
BEGIN:VEVENT
DTSTART;TZID=UTC:20260413T170000
DTEND;TZID=UTC:20260413T170000
DTSTAMP:20260424T153857
CREATED:20260410T105554Z
LAST-MODIFIED:20260410T105554Z
UID:47093-1776099600-1776099600@adefo.com
SUMMARY:Charla "Del dolor al bienestar\, a través de la respiración y el movimiento funcional"\, en Tauste
DESCRIPTION:
URL:https://adefo.com/agenda/charla-del-dolor-al-bienestar-a-traves-de-la-respiracion-y-el-movimiento-funcional-en-tauste/
LOCATION:Casa de cultura
CATEGORIES:DE LA A A LA U difusión cultural Cinco Villas
ATTACH;FMTTYPE=image/jpeg:https://adefo.com/wp-content/uploads/2026/04/WhatsApp-Image-2026-04-09-at-10.51.05.jpeg
END:VEVENT
BEGIN:VEVENT
DTSTART;VALUE=DATE:20260415
DTEND;VALUE=DATE:20260706
DTSTAMP:20260424T153857
CREATED:20260415T082928Z
LAST-MODIFIED:20260415T082928Z
UID:47161-1776211200-1783295999@adefo.com
SUMMARY:I Torneo de fútbol 7 en Castiliscar
DESCRIPTION:
URL:https://adefo.com/agenda/i-torneo-de-futbol-7-en-castiliscar/
LOCATION:Zaragoza
CATEGORIES:DE LA A A LA U difusión cultural Cinco Villas
ATTACH;FMTTYPE=image/jpeg:https://adefo.com/wp-content/uploads/2026/04/WhatsApp-Image-2026-04-15-at-09.53.27-1.jpeg
END:VEVENT
BEGIN:VEVENT
DTSTART;VALUE=DATE:20260416
DTEND;VALUE=DATE:20260501
DTSTAMP:20260424T153857
CREATED:20260410T072959Z
LAST-MODIFIED:20260410T073425Z
UID:47080-1776297600-1777593599@adefo.com
SUMMARY:I Encuentro de Ilustración Editorial en Ejea de los Caballeros
DESCRIPTION:
URL:https://adefo.com/agenda/i-encuentro-de-ilustracion-editorial-en-ejea-de-los-caballeros/
LOCATION:Museo Aquagraria\, C/ Manuel Lorenzo Pardo\, s/n\, Ejea de los Caballeros\, 50600\, Spain
CATEGORIES:DE LA A A LA U difusión cultural Cinco Villas
ATTACH;FMTTYPE=image/jpeg:https://adefo.com/wp-content/uploads/2026/04/0af863f3-a105-4fd2-90fe-f14d2af66125.jpg
END:VEVENT
END:VCALENDAR