BEGIN:VCALENDAR
VERSION:2.0
PRODID:-//ADEFO - ECPv6.7.0//NONSGML v1.0//EN
CALSCALE:GREGORIAN
METHOD:PUBLISH
X-ORIGINAL-URL:https://adefo.com
X-WR-CALDESC:Eventos para ADEFO
REFRESH-INTERVAL;VALUE=DURATION:PT1H
X-Robots-Tag:noindex
X-PUBLISHED-TTL:PT1H
BEGIN:VTIMEZONE
TZID:UTC
BEGIN:STANDARD
TZOFFSETFROM:+0000
TZOFFSETTO:+0000
TZNAME:UTC
DTSTART:20260101T000000
END:STANDARD
END:VTIMEZONE
BEGIN:VEVENT
DTSTART;VALUE=DATE:20260306
DTEND;VALUE=DATE:20260523
DTSTAMP:20260424T153846
CREATED:20260318T092637Z
LAST-MODIFIED:20260318T092700Z
UID:46863-1772755200-1779494399@adefo.com
SUMMARY:Escuela municipal de familias en Ejea de los Caballeros
DESCRIPTION:
URL:https://adefo.com/agenda/escuela-municipal-de-familias-en-ejea-de-los-caballeros-2/
LOCATION:Zaragoza
CATEGORIES:DE LA A A LA U difusión cultural Cinco Villas
ATTACH;FMTTYPE=image/jpeg:https://adefo.com/wp-content/uploads/2026/03/WhatsApp-Image-2026-03-02-at-09.20.01.jpeg
END:VEVENT
BEGIN:VEVENT
DTSTART;VALUE=DATE:20260321
DTEND;VALUE=DATE:20260413
DTSTAMP:20260424T153846
CREATED:20260204T085738Z
LAST-MODIFIED:20260204T085738Z
UID:46676-1774051200-1776038399@adefo.com
SUMMARY:Curso de monitor de ocio y tiempo libre en Ejea de los Caballeros
DESCRIPTION:
URL:https://adefo.com/agenda/curso-de-monitor-de-ocio-y-tiempo-libre-en-ejea-de-los-caballeros-2/
LOCATION:Club Eras Altas
CATEGORIES:DE LA A A LA U difusión cultural Cinco Villas
ATTACH;FMTTYPE=image/jpeg:https://adefo.com/wp-content/uploads/2026/02/Club-Eras-Altas.jpg
END:VEVENT
BEGIN:VEVENT
DTSTART;VALUE=DATE:20260321
DTEND;VALUE=DATE:20260614
DTSTAMP:20260424T153846
CREATED:20260318T120058Z
LAST-MODIFIED:20260318T120058Z
UID:46914-1774051200-1781395199@adefo.com
SUMMARY:Celebrando la primavera con la cultura en Ejea de los Caballeros
DESCRIPTION:
URL:https://adefo.com/agenda/celebrando-la-primavera-con-la-cultura-en-ejea-de-los-caballeros/
LOCATION:Zaragoza
CATEGORIES:DE LA A A LA U difusión cultural Cinco Villas
ATTACH;FMTTYPE=image/jpeg:https://adefo.com/wp-content/uploads/2026/03/WhatsApp-Image-2026-03-18-at-12.52.09.jpeg
END:VEVENT
BEGIN:VEVENT
DTSTART;VALUE=DATE:20260321
DTEND;VALUE=DATE:20260531
DTSTAMP:20260424T153846
CREATED:20260408T081253Z
LAST-MODIFIED:20260408T081253Z
UID:47042-1774051200-1780185599@adefo.com
SUMMARY:Permacultura en las Cinco Villas
DESCRIPTION:
URL:https://adefo.com/agenda/permacultura-en-las-cinco-villas/
LOCATION:Zaragoza
CATEGORIES:DE LA A A LA U difusión cultural Cinco Villas
ATTACH;FMTTYPE=image/jpeg:https://adefo.com/wp-content/uploads/2026/04/653105884_122259419930060620_6767271668137627.jpg
END:VEVENT
BEGIN:VEVENT
DTSTART;VALUE=DATE:20260328
DTEND;VALUE=DATE:20260406
DTSTAMP:20260424T153846
CREATED:20260325T080942Z
LAST-MODIFIED:20260325T080942Z
UID:46944-1774656000-1775433599@adefo.com
SUMMARY:Semana Santa 2026 en Biel
DESCRIPTION:
URL:https://adefo.com/agenda/semana-santa-2026-en-biel/
LOCATION:Zaragoza
CATEGORIES:DE LA A A LA U difusión cultural Cinco Villas
ATTACH;FMTTYPE=image/jpeg:https://adefo.com/wp-content/uploads/2026/03/657172439_2743804109332924_23797718597273814.jpg
END:VEVENT
BEGIN:VEVENT
DTSTART;VALUE=DATE:20260401
DTEND;VALUE=DATE:20260405
DTSTAMP:20260424T153846
CREATED:20260204T084308Z
LAST-MODIFIED:20260219T144851Z
UID:46661-1775001600-1775347199@adefo.com
SUMMARY:XXX Maratón de futbol sala "Villa de Ejea"
DESCRIPTION:
URL:https://adefo.com/agenda/xxx-maraton-de-futbol-sala-villa-de-ejea/
LOCATION:Zaragoza
CATEGORIES:DE LA A A LA U difusión cultural Cinco Villas
END:VEVENT
BEGIN:VEVENT
DTSTART;TZID=UTC:20260403T120000
DTEND;TZID=UTC:20260404T140000
DTSTAMP:20260424T153846
CREATED:20260401T084913Z
LAST-MODIFIED:20260401T084913Z
UID:46990-1775217600-1775311200@adefo.com
SUMMARY:Venta solidaria en Uncastillo
DESCRIPTION:
URL:https://adefo.com/agenda/venta-solidaria-en-uncastillo/
LOCATION:Plaza del Ordinario
CATEGORIES:DE LA A A LA U difusión cultural Cinco Villas
ATTACH;FMTTYPE=image/jpeg:https://adefo.com/wp-content/uploads/2026/04/Uncastillo.jpg
END:VEVENT
BEGIN:VEVENT
DTSTART;VALUE=DATE:20260404
DTEND;VALUE=DATE:20260405
DTSTAMP:20260424T153846
CREATED:20260318T115507Z
LAST-MODIFIED:20260318T115507Z
UID:46905-1775260800-1775347199@adefo.com
SUMMARY:I Triatlón de ocio en Sádaba
DESCRIPTION:
URL:https://adefo.com/agenda/i-triatlon-de-ocio-en-sadaba/
LOCATION:Pabellón municipal\, Spain
CATEGORIES:DE LA A A LA U difusión cultural Cinco Villas
ATTACH;FMTTYPE=image/jpeg:https://adefo.com/wp-content/uploads/2026/03/650509323_10236660885599939_6941081167462719.jpg
END:VEVENT
BEGIN:VEVENT
DTSTART;VALUE=DATE:20260404
DTEND;VALUE=DATE:20260405
DTSTAMP:20260424T153846
CREATED:20260325T080813Z
LAST-MODIFIED:20260325T080813Z
UID:46941-1775260800-1775347199@adefo.com
SUMMARY:Fiesta de la cerveza en Uncastillo
DESCRIPTION:
URL:https://adefo.com/agenda/fiesta-de-la-cerveza-en-uncastillo/
LOCATION:Pabellón
CATEGORIES:DE LA A A LA U difusión cultural Cinco Villas
ATTACH;FMTTYPE=image/jpeg:https://adefo.com/wp-content/uploads/2026/03/Pabellon-Uncastillo.jpg
END:VEVENT
BEGIN:VEVENT
DTSTART;VALUE=DATE:20260404
DTEND;VALUE=DATE:20260405
DTSTAMP:20260424T153846
CREATED:20260401T084310Z
LAST-MODIFIED:20260401T084310Z
UID:46981-1775260800-1775347199@adefo.com
SUMMARY:Semana Santa 2026 en Biel
DESCRIPTION:
URL:https://adefo.com/agenda/semana-santa-2026-en-biel-3/
LOCATION:Zaragoza
CATEGORIES:DE LA A A LA U difusión cultural Cinco Villas
ATTACH;FMTTYPE=image/jpeg:https://adefo.com/wp-content/uploads/2026/04/3.jpg
END:VEVENT
BEGIN:VEVENT
DTSTART;TZID=UTC:20260404T103000
DTEND;TZID=UTC:20260406T103000
DTSTAMP:20260424T153846
CREATED:20260401T083723Z
LAST-MODIFIED:20260401T083723Z
UID:46972-1775298600-1775471400@adefo.com
SUMMARY:Visita guiada a Los Bañales
DESCRIPTION:
URL:https://adefo.com/agenda/visita-guiada-a-los-banales-2/
LOCATION:Zaragoza
CATEGORIES:DE LA A A LA U difusión cultural Cinco Villas
ATTACH;FMTTYPE=image/jpeg:https://adefo.com/wp-content/uploads/2026/04/656632575_1446037797312346_189832981662835096.jpg
END:VEVENT
END:VCALENDAR