BEGIN:VCALENDAR
VERSION:2.0
PRODID:-//ADEFO - ECPv6.7.0//NONSGML v1.0//EN
CALSCALE:GREGORIAN
METHOD:PUBLISH
X-WR-CALNAME:ADEFO
X-ORIGINAL-URL:https://adefo.com
X-WR-CALDESC:Eventos para ADEFO
REFRESH-INTERVAL;VALUE=DURATION:PT1H
X-Robots-Tag:noindex
X-PUBLISHED-TTL:PT1H
BEGIN:VTIMEZONE
TZID:UTC
BEGIN:STANDARD
TZOFFSETFROM:+0000
TZOFFSETTO:+0000
TZNAME:UTC
DTSTART:20200101T000000
END:STANDARD
END:VTIMEZONE
BEGIN:VEVENT
DTSTART;TZID=UTC:20200401T080000
DTEND;TZID=UTC:20200401T170000
DTSTAMP:20260421T071458
CREATED:20200422T104116Z
LAST-MODIFIED:20200422T104116Z
UID:27015-1585728000-1585760400@adefo.com
SUMMARY:CAFÉ CON IDEA. INSTAGRAM\, TU ESCAPARATE VIRTUAL
DESCRIPTION:Nuestro Café con Idea de hoy\, 1 de abril va a tener como protagonista de nuevo a INSTAGRAM. \nYa que no podemos organizar en nuestra sede esta cita con el Café con Idea de Adefo\, hemos pensado en llevároslo directamente hasta casa. \nEstamos seguros de que os apetecerá saber más sobre un tema que os puede ser útil para vuestro trabajo y no solo.  Nos referimos a INSTAGRAM\, una de las redes sociales que más se utilizan en el mundo de las empresas para la promoción de marcas y productos. \nPor eso\, hemos pedido a Isaac Bolea de Sephor Consulting que presente este Café con Idea virtual\, retomando la presentación que hizo el año pasado en la que encontraréis algunos trucos para mejorar la visibilidad de vuestra empresa y sacar el máximo provecho de esta red social. \nSi tienes alguna duda puedes ponerte en contacto con Isaac Bolea a través de su cuenta de correo.
URL:https://adefo.com/agenda/cafe-con-idea-instagram-tu-escaparate-virtual/
ATTACH;FMTTYPE=image/jpeg:https://adefo.com/wp-content/uploads/2020/04/café-con-idea-4.jpg
END:VEVENT
END:VCALENDAR