BEGIN:VCALENDAR
VERSION:2.0
PRODID:-//ADEFO - ECPv6.7.0//NONSGML v1.0//EN
CALSCALE:GREGORIAN
METHOD:PUBLISH
X-WR-CALNAME:ADEFO
X-ORIGINAL-URL:https://adefo.com
X-WR-CALDESC:Eventos para ADEFO
REFRESH-INTERVAL;VALUE=DURATION:PT1H
X-Robots-Tag:noindex
X-PUBLISHED-TTL:PT1H
BEGIN:VTIMEZONE
TZID:UTC
BEGIN:STANDARD
TZOFFSETFROM:+0000
TZOFFSETTO:+0000
TZNAME:UTC
DTSTART:20190101T000000
END:STANDARD
END:VTIMEZONE
BEGIN:VEVENT
DTSTART;TZID=UTC:20191129T160000
DTEND;TZID=UTC:20191129T200000
DTSTAMP:20260421T131438
CREATED:20191118T142953Z
LAST-MODIFIED:20191118T142953Z
UID:26261-1575043200-1575057600@adefo.com
SUMMARY:TALLER SOBRE GESTIÓN PARA ASOCIACIONES
DESCRIPTION:El próximo viernes 29 de noviembre\, de 16.00 a 20.00 horas\, tendrá lugar en la sede de Adefo Cinco Villas\, en Ejea de los Caballeros\, Plaza de la Diputación n. 4 un taller de formación sobre Gestión para Asociaciones\, promovido en el marco del convenio entre la Comarca de Cinco Villas y Adefo Cinco Villas. \nEl taller se centrará en cuestiones como las obligaciones documentales para las asociaciones\, proceso de constitución\, órganos y funciones\, aclaraciones sobre el funcionamiento interno y económico de las mismas\, obligaciones contables y fiscales\, facturación\, IVA\, certificado electrónico\, ley de protección de datos y mecanismos de financiación. \n 
URL:https://adefo.com/agenda/taller-sobre-gestion-para-asociaciones/
LOCATION:Adefo 5 Villas\, Calle Cervantes\, 9\, Ejea de los caballeros\, Zaragoza\, 50600\, España
ATTACH;FMTTYPE=image/jpeg:https://adefo.com/wp-content/uploads/2019/11/imagen-taller-2911.jpg
END:VEVENT
END:VCALENDAR