BEGIN:VCALENDAR
VERSION:2.0
PRODID:-//ADEFO - ECPv6.7.0//NONSGML v1.0//EN
CALSCALE:GREGORIAN
METHOD:PUBLISH
X-WR-CALNAME:ADEFO
X-ORIGINAL-URL:https://adefo.com
X-WR-CALDESC:Eventos para ADEFO
REFRESH-INTERVAL;VALUE=DURATION:PT1H
X-Robots-Tag:noindex
X-PUBLISHED-TTL:PT1H
BEGIN:VTIMEZONE
TZID:UTC
BEGIN:STANDARD
TZOFFSETFROM:+0000
TZOFFSETTO:+0000
TZNAME:UTC
DTSTART:20190101T000000
END:STANDARD
END:VTIMEZONE
BEGIN:VEVENT
DTSTART;TZID=UTC:20190227T160000
DTEND;TZID=UTC:20190227T200000
DTSTAMP:20260422T073545
CREATED:20190208T092738Z
LAST-MODIFIED:20190208T092738Z
UID:25288-1551283200-1551297600@adefo.com
SUMMARY:CONECTA CINCO VILLAS 2019
DESCRIPTION:  \nCONECTA 5 VILLAS ofrece la posibilidad a los demandantes de empleo o en mejora de empleo de contactar con empresas acordes a sus aspiraciones laborales y a las empresas\, de conocer potenciales candidatos para futuras necesidades de personal. \nNo se trata de una sesión de selección de personal ni se ofertarán puestos de trabajo concretos. Se trata de generar un espacio de conocimiento mutuo entre empresas y demandantes de empleo. \nLa jornada\, organizada para el próximo 27 de febrero en el Centro Cívico Cultural de Ejea de los Caballeros\, está promovida por el Instituto Aragonés de Empleo\, SOFEJEA\, Adefo Cinco Villas y Asociación Empresarial de las Cinco Villas\, y cuenta con el patrocinio de la Comarca de Cinco Villas. \nLos interesados en participar deberán formalizar la inscripción en la oficina del INAEM de Ejea (c/ Mediavilla\, 25 – 976 66 12 51 – ofempleo.ejea@aragon.es) hasta el 20 de febrero o hasta completar el aforo (50 plazas)\, en orden de recepción de solicitudes.
URL:https://adefo.com/agenda/conecta-cinco-villas-2019/
LOCATION:CENTRO CIVICO EJEA DE LOS CABALLEROS
ATTACH;FMTTYPE=image/jpeg:https://adefo.com/wp-content/uploads/2019/02/CONECTA-5-VILLAS-2019.jpg
END:VEVENT
END:VCALENDAR