BEGIN:VCALENDAR
VERSION:2.0
PRODID:-//ADEFO - ECPv6.7.0//NONSGML v1.0//EN
CALSCALE:GREGORIAN
METHOD:PUBLISH
X-ORIGINAL-URL:https://adefo.com
X-WR-CALDESC:Eventos para ADEFO
REFRESH-INTERVAL;VALUE=DURATION:PT1H
X-Robots-Tag:noindex
X-PUBLISHED-TTL:PT1H
BEGIN:VTIMEZONE
TZID:UTC
BEGIN:STANDARD
TZOFFSETFROM:+0000
TZOFFSETTO:+0000
TZNAME:UTC
DTSTART:20180101T000000
END:STANDARD
END:VTIMEZONE
BEGIN:VEVENT
DTSTART;TZID=UTC:20181205T153000
DTEND;TZID=UTC:20181205T170000
DTSTAMP:20260422T121927
CREATED:20181127T143347Z
LAST-MODIFIED:20181127T143623Z
UID:24830-1544023800-1544029200@adefo.com
SUMMARY:CAFÉ CON IDEA. LA IMPORTANCIA DE UNA BUENA IMAGEN PARA TU EMPRESA
DESCRIPTION:Todos sabemos que la imagen corporativa de una empresa es imprescindible para fidelizar a los usuarios y para destacar en un entorno altamente competitivo\, donde la creación de nuevos negocios se da a un ritmo vertiginoso y donde los consumidores son cada vez más exigentes. \nUna buena imagen corporativa no es solamente un logotipo sino que depende de otros muchos factores\, como conseguir transmitir tus valores y tu filosofía de trabajo. \nMaría Sanz de Estudio Limón nos ofrecerá en nuestro próximo Café con Idea\, una serie de herramientas para mejorar nuestra imagen corporativa y acercarnos a nuestro público\, explicando nociones como el “branding” y ayudándonos a diferenciarnos de la competencia. \n¡Te esperamos!
URL:https://adefo.com/agenda/cafe-con-idea-la-importancia-de-una-buena-imagen-para-tu-empresa/
LOCATION:Zaragoza
ATTACH;FMTTYPE=image/png:https://adefo.com/wp-content/uploads/2018/11/café-con-idea-3.png
END:VEVENT
END:VCALENDAR