BEGIN:VCALENDAR
VERSION:2.0
PRODID:-//ADEFO - ECPv6.7.0//NONSGML v1.0//EN
CALSCALE:GREGORIAN
METHOD:PUBLISH
X-WR-CALNAME:ADEFO
X-ORIGINAL-URL:https://adefo.com
X-WR-CALDESC:Eventos para ADEFO
REFRESH-INTERVAL;VALUE=DURATION:PT1H
X-Robots-Tag:noindex
X-PUBLISHED-TTL:PT1H
BEGIN:VTIMEZONE
TZID:UTC
BEGIN:STANDARD
TZOFFSETFROM:+0000
TZOFFSETTO:+0000
TZNAME:UTC
DTSTART:20180101T000000
END:STANDARD
END:VTIMEZONE
BEGIN:VEVENT
DTSTART;TZID=UTC:20180704T153000
DTEND;TZID=UTC:20180704T170000
DTSTAMP:20260422T192551
CREATED:20180628T084101Z
LAST-MODIFIED:20180628T084101Z
UID:24048-1530718200-1530723600@adefo.com
SUMMARY:CAFÉ CON IDEA: LIDERA TUS EMOCIONES
DESCRIPTION:La experiencia nos demuestra que aprender a hacer tareas\, tener estudios\, un coeficiente intelectual muy alto o acumular experiencia no son una garantía de éxito. Los seres humanos somos seres emocionales y son nuestras emociones las que determinan\, a cada momento\, las decisiones que nos llevan en una dirección u otra tanto en el ámbito personal como en el profesional. \nEn nuestro próximo “Café con Idea” te invitamos a entender un poco más qué son\, cómo influyen en nuestro comportamiento diario y\, sobre todo\, cómo manejar nuestro sistema emocional. \nSi estás hart@ de desplegar comportamientos que no eliges\, que no te llevan a dónde quieres y con la sensación de no tener recursos para cambiarlos\, estás invitado. Con Nieves Asensio\, Coach profesional especializada en Inteligencia Emocional y Mindfulness\, nos aproximaremos a la “ingeniería” de las emociones y\, conocerás un sencillo modelo que te ayudará a dar los primeros pasos hacia tu liderazgo emocional. \nCAFÉ CON IDEA: miércoles\, 4 de julio a las 15\,30 h en ADEFO (Pza. de la Diputación –  Antiguo Colegio Cervantes). Recuerda que la entrada es libre y no precisa inscripción previa.
URL:https://adefo.com/agenda/cafe-con-idea-lidera-tus-emociones/
LOCATION:Zaragoza
ATTACH;FMTTYPE=image/jpeg:https://adefo.com/wp-content/uploads/2018/06/café-con-idea-1.jpg
END:VEVENT
END:VCALENDAR