BEGIN:VCALENDAR
VERSION:2.0
PRODID:-//ADEFO - ECPv6.7.0//NONSGML v1.0//EN
CALSCALE:GREGORIAN
METHOD:PUBLISH
X-WR-CALNAME:ADEFO
X-ORIGINAL-URL:https://adefo.com
X-WR-CALDESC:Eventos para ADEFO
REFRESH-INTERVAL;VALUE=DURATION:PT1H
X-Robots-Tag:noindex
X-PUBLISHED-TTL:PT1H
BEGIN:VTIMEZONE
TZID:UTC
BEGIN:STANDARD
TZOFFSETFROM:+0000
TZOFFSETTO:+0000
TZNAME:UTC
DTSTART:20180101T000000
END:STANDARD
END:VTIMEZONE
BEGIN:VEVENT
DTSTART;TZID=UTC:20180502T153000
DTEND;TZID=UTC:20180502T163000
DTSTAMP:20260422T222641
CREATED:20180427T074836Z
LAST-MODIFIED:20180427T081918Z
UID:23704-1525275000-1525278600@adefo.com
SUMMARY:Café con idea: PROYECTOS EUROPEOS: UNA OPORTUNIDAD PARA LAS CINCO VILLAS
DESCRIPTION:  \nDesde ADEFO queremos conectar las Cinco Villas con el resto de Europa. Por eso hemos creado el Área de Proyectos Europeos\, para aprovechar las nuevas oportunidades que nos ofrecen los programas financiados por la Unión Europea e impulsar proyectos en el marco de este período de financiación. \nNuestro objetivo es ofrecer al territorio un servicio de información y asesoramiento en proyectos europeos para orientar a asociaciones\, fundaciones\, ayuntamientos y cualquier entidad que quiera emprender sus primeros pasos para acceder a los programa europeos. \n¿Quieres saber más? Participa en nuestro próximo Café con Idea \nCAFÉ CON IDEA: Miércoles 2 de mayo – De 15\,30 a 16\,30 h en ADEFO (Pza. de la Diputación – Antiguo Colegio Cervantes). Recuerda que la entrada es libre y no precisa inscripción previa.
URL:https://adefo.com/agenda/cafe-con-idea-proyectos-europeos-una-oportunidad-para-las-cinco-villas/
LOCATION:Zaragoza
ATTACH;FMTTYPE=image/jpeg:https://adefo.com/wp-content/uploads/2018/04/PROG-EUROPEOS-1.jpg
END:VEVENT
END:VCALENDAR