BEGIN:VCALENDAR
VERSION:2.0
PRODID:-//ADEFO - ECPv6.7.0//NONSGML v1.0//EN
CALSCALE:GREGORIAN
METHOD:PUBLISH
X-ORIGINAL-URL:https://adefo.com
X-WR-CALDESC:Eventos para ADEFO
REFRESH-INTERVAL;VALUE=DURATION:PT1H
X-Robots-Tag:noindex
X-PUBLISHED-TTL:PT1H
BEGIN:VTIMEZONE
TZID:UTC
BEGIN:STANDARD
TZOFFSETFROM:+0000
TZOFFSETTO:+0000
TZNAME:UTC
DTSTART:20180101T000000
END:STANDARD
END:VTIMEZONE
BEGIN:VEVENT
DTSTART;TZID=UTC:20180207T153000
DTEND;TZID=UTC:20180207T170000
DTSTAMP:20260423T025916
CREATED:20180111T094556Z
LAST-MODIFIED:20201130T083800Z
UID:23184-1518017400-1518022800@adefo.com
SUMMARY:Café con Idea: Enfoca tu energía y alcanza tus metas
DESCRIPTION:  \n \nNo solemos pararnos a pensar sobre nuestras prioridades en la vida; o las identificamos\, pero no sabemos muy bien cómo llegar a ellas; o\, incluso\, las conocemos\, sabemos qué tendríamos que hacer\, pero no terminamos de dar los pasos necesarios. \nSi ya estás hart@ de incumplir objetivos y distraerte con lo que no es importante pero fagocita tu tiempo\, nuestro próximo Café con Idea es para ti. Te contaremos cómo enfocarte y cómo utilizar tus mejores recursos para ponerlos al servicio de tus metas. \nDe la mano de Nieves Asensio (Coach profesional especializada en Inteligencia Emocional) conocerás claves y herramientas que te ayudarán a identificar tus verdaderas prioridades\, crear una estrategia para alcanzarlas y gestionar tu tiempo y tu energía con eficacia. \n¿Nos acompañas? \nCAFÉ CON IDEA: Miércoles\, 7 de febrero\, a las 15\,30 h en ADEFO (Pza. de la Diputación – Antiguo Colegio Cervantes). Recuerda que la entrada es libre y no precisa inscripción previa.
URL:https://adefo.com/agenda/cafe-con-idea/
LOCATION:Adefo 5 Villas\, Calle Cervantes\, 9\, Ejea de los caballeros\, Zaragoza\, 50600\, España
END:VEVENT
END:VCALENDAR