BEGIN:VCALENDAR
VERSION:2.0
PRODID:-//ADEFO - ECPv6.7.0//NONSGML v1.0//EN
CALSCALE:GREGORIAN
METHOD:PUBLISH
X-WR-CALNAME:ADEFO
X-ORIGINAL-URL:https://adefo.com
X-WR-CALDESC:Eventos para ADEFO
REFRESH-INTERVAL;VALUE=DURATION:PT1H
X-Robots-Tag:noindex
X-PUBLISHED-TTL:PT1H
BEGIN:VTIMEZONE
TZID:UTC
BEGIN:STANDARD
TZOFFSETFROM:+0000
TZOFFSETTO:+0000
TZNAME:UTC
DTSTART:20170101T000000
END:STANDARD
END:VTIMEZONE
BEGIN:VEVENT
DTSTART;TZID=UTC:20171213T153000
DTEND;TZID=UTC:20171213T170000
DTSTAMP:20260423T060058
CREATED:20171208T102839Z
LAST-MODIFIED:20171211T081722Z
UID:23052-1513179000-1513184400@adefo.com
SUMMARY:Café con idea: “Linkedin para tu negocio”
DESCRIPTION:Con más de 500 millones de usuarios\, Linkedin se ha convertido en la Red Social profesional por excelencia. \nSobre cómo usarla y sus utilidades tratará nuestro próximo Café con Idea trasladado este mes al segundo miércoles\, 13 de diciembre\, con motivo de la festividad de la Constitución. \nDescubrirás cómo abrir tu perfil de Linkedin\, cuáles son las ventajas de tener una cuenta de empresa y cómo sacarle el máximo partido. Para ello contaremos con la colaboración de Alicia González\, consultora y formadora en gestión de Redes Sociales para la empresa. \nSeguro que no quieres perdértelo.
URL:https://adefo.com/agenda/cafe-con-idea-linkedin-para-tu-negocio/
LOCATION:Adefo 5 Villas\, Calle Cervantes\, 9\, Ejea de los caballeros\, Zaragoza\, 50600\, España
ATTACH;FMTTYPE=image/jpeg:https://adefo.com/wp-content/uploads/2017/12/Cartel.jpeg
END:VEVENT
END:VCALENDAR